Workbook
Name ss_all_categories: '分类汇总'!$G$32
Name ss_all_lines: '分类汇总'!$G$33
Name ss_answer: '要你决定'!$B$6
Name ss_asset: '要你决定'!$E$17
Name ss_balance_diff: '核对'!$E$10
Name ss_cannot: '核对'!$H$3
Name ss_edit_text: '核对'!$H$14
Name ss_edits: '核对'!$H$13
Name ss_fail: '核对'!$H$2
Name ss_first_break: '核对'!$H$4
Name ss_first_line: '核对'!$H$5
Name ss_guess: '要你决定'!$E$10
Name ss_guess_n: '要你决定'!$K$1
Name ss_income: '要你决定'!$K$2
Name ss_income_guess: '要你决定'!$E$12
Name ss_income_you: '要你决定'!$E$11
Name ss_leftout: '要你决定'!$E$21
Name ss_loan: '要你决定'!$E$19
Name ss_private: '要你决定'!$E$16
Name ss_refunds: '要你决定'!$E$20
Name ss_second: '要你决定'!$B$7
Name ss_spending: '要你决定'!$K$3
Name ss_spending_guess: '要你决定'!$E$14
Name ss_spending_you: '要你决定'!$E$13
Name ss_tax: '要你决定'!$E$15
Name ss_transfer: '要你决定'!$E$18
Name ss_undecided: '要你决定'!$E$9
Name ss_undecided_n: '分类汇总'!$D$38

Sheet 要你决定
K1: =COUNTIF('明细'!$G$6:$G$72,"我们的猜测，没核对") -> 5
B2: 流水分好类 | K2: ='分类汇总'!$E$39 -> 50812.5
B3: 青禾手作工作室 2026-08-01 到 2026-10-30 | K3: =-'分类汇总'!$E$40 -> 27239
B4: 虚构示例。商家、银行、所有名字和金额都是编的。
B6: =IF(ss_fail>0,"这些合计先别用：有 "&ss_fail&" 项核对和流水对不上，见「核对」表。",IF(ss_undecided_n>0,"还没分完："&COUNTA('明细'!$D$6:$D$72)&" 行里有 "&ss_undecided_n&" 行、"&"¥"&TEXT(ss_undecided,"#,##0.00")&" 要你决定。",IF(ss_guess_n>0,"没有等你决定的行，但有 "&ss_guess_n&" 行、"&"¥"&TEXT(ss_guess,"#,##0.00")&" 是我们的猜测，没核对。用这些合计之前请看一遍。",IF(ss_edits>0,"每一行都答过了，但这份已经和读到的不一样："&ss_edit_text&"。这些地方的数字证明不了什么。",IF(ss_cannot>0,"每一行都答过了，但没法证明流水是完整的：上面有核对没对上。见「核对」表。","每一行都答过了，数字和流水对得上。对得上只说明数字加起来相符，不说明分类是对的。"))))) -> 还没分完：37 行里有 11 行、¥20,160.70 要你决定。
B7: =IF(ss_edits>0,"读入之后在表上改过的："&ss_edit_text&" ","")&IF(ss_fail>0,IF(ss_balance_diff="","",IF(ss_balance_diff=0,"","差额 ¥"&TEXT(ABS(ss_balance_diff),"#,##0.00")&IF(ss_first_line="","","。余额第一次接不上在「明细」第 "&ss_first_line&" 行，原文第 "&ss_first_break&" 行。")&" ")),"")&IF(ss_undecided_n=0,"",IF(ss_fail>0,"还没分完："&COUNTA('明细'!$D$6:$D$72)&" 行里有 "&ss_undecided_n&" 行、"&"¥"&TEXT(ss_undecided,"#,##0.00")&" 要你决定。"&" ","")&"定下来之前，下面的合计都不含这笔钱。") -> 定下来之前，下面的合计都不含这笔钱。
B8: “我们的猜测，没核对”是说，只凭这一行的一个词猜了分类，没人确认过。请看一遍这些行。“对得上”只说明数字加起来相符，不说明分类是对的。
B9: 还没决定 | E9: =(SUMIFS('明细'!$D$6:$D$72,'明细'!$N$6:$N$72,'分类汇总'!$B$6,'明细'!$D$6:$D$72,">0")-SUMIFS('明细'!$D$6:$D$72,'明细'!$N$6:$N$72,'分类汇总'!$B$6,'明细'!$D$6:$D$72,"<0")) -> 20160.7 | F9: 自己账户之间转账、借贷款项、私人开支、大额购置、税费和政府缴费，不算收入，也不算支出。
B10: ="我们的猜测，没核对 ("&COUNTIF('明细'!$G$6:$G$72,"我们的猜测，没核对")&")" -> 我们的猜测，没核对 (5) | E10: =(SUMIFS('明细'!$D$6:$D$72,'明细'!$G$6:$G$72,"我们的猜测，没核对",'明细'!$D$6:$D$72,">0")-SUMIFS('明细'!$D$6:$D$72,'明细'!$G$6:$G$72,"我们的猜测，没核对",'明细'!$D$6:$D$72,"<0")) -> 664.5
B11: 收入（你定的） | E11: =$K$2-E12 -> 50800
B12: 收入（还是我们的猜测） | E12: =SUMIFS('明细'!$D$6:$D$72,'明细'!$N$6:$N$72,'分类汇总'!$B$39,'明细'!$G$6:$G$72,"我们的猜测，没核对") -> 12.5 | F12: 这里只按日常记账用词分类，不判断什么能抵税，也不判断该交多少税。这些由你的会计决定。
B13: 支出（你定的） | E13: =$K$3-E14 -> 26587
B14: 支出（还是我们的猜测） | E14: =-SUMIFS('明细'!$D$6:$D$72,'明细'!$N$6:$N$72,'分类汇总'!$B$40,'明细'!$G$6:$G$72,"我们的猜测，没核对") -> 652
B15: 税费和政府缴费 | E15: =-'分类汇总'!$E$41 -> 4200
B16: 私人开支 | E16: =-'分类汇总'!$E$42 -> 686.4 | F16: 如果让助手重新生成这份工作簿，请让它把这个文件传回去，否则你在下拉里的选择会丢。你的选择优先于规则。
B17: 大额购置 | E17: =-'分类汇总'!$E$43 -> 18600
B18: 自己账户之间转账 | E18: ='分类汇总'!$E$44 -> -9000
B19: 借贷款项 | E19: ='分类汇总'!$E$45 -> 0 | F19: 金额和余额没设密码地锁上了，免得误改。这不防篡改：第一张表会拿它们和隐藏的原样对比，并写明改了什么。
B20: 已冲减支出的退款 | E20: =SUMIFS('明细'!$D$6:$D$72,'明细'!$N$6:$N$72,'分类汇总'!$B$40,'明细'!$D$6:$D$72,">0") -> 460
B21: 不计入任何合计 | E21: =(SUMIFS('明细'!$D$6:$D$72,'明细'!$N$6:$N$72,'分类汇总'!$B$46,'明细'!$D$6:$D$72,">0")-SUMIFS('明细'!$D$6:$D$72,'明细'!$N$6:$N$72,'分类汇总'!$B$46,'明细'!$D$6:$D$72,"<0")) -> 0
B23: 等你决定的行
B24: 到「明细」表改分类那一列。这张清单、所有合计和图表都会跟着变。
B25: 行号 | C25: 日期 | D25: 流水原文 | E25: 金额 | F25: 我想问你 | G25: 我的建议 | H25: 现在的分类 | I25: 状态
B26: 4 | C26: 46239 | D26: 电费 8月 | E26: -412.3 | F26: 写着“电费”。是生意上的，还是家里的？告诉我一次，就可以写成规则。 | G26: 水电燃气 | H26: =INDEX('明细'!$E$6:$E$72,B26) -> 待你决定 | I26: =INDEX('明细'!$G$6:$G$72,B26) -> 待你决定
B27: 6 | C27: 46243 | D27: ATM取现 文昌路 | E27: -2000 | F27: 取现。我不知道这笔现金买了什么。 | G27: 私人开支 | H27: =INDEX('明细'!$E$6:$E$72,B27) -> 待你决定 | I27: =INDEX('明细'!$G$6:$G$72,B27) -> 待你决定
B28: 10 | C28: 46250 | D28: 收款 林女士 | E28: 8600 | F28: 进来一笔钱，这行没写为什么。是销售、借款、你自己的钱，还是别的？ | G28: 销售和服务收入 | H28: =INDEX('明细'!$E$6:$E$72,B28) -> 待你决定 | I28: =INDEX('明细'!$G$6:$G$72,B28) -> 待你决定
B29: 19 | C29: 46273 | D29: 电费 9月 | E29: -398.8 | F29: 写着“电费”。是生意上的，还是家里的？告诉我一次，就可以写成规则。 | G29: 水电燃气 | H29: =INDEX('明细'!$E$6:$E$72,B29) -> 待你决定 | I29: =INDEX('明细'!$G$6:$G$72,B29) -> 待你决定
B30: 20 | C30: 46275 | D30: 转账 张先生 | E30: -3500 | F30: 是转账，但我不知道对方是谁。是你自己的账户，还是付给别人？ | G30: 没有建议 | H30: =INDEX('明细'!$E$6:$E$72,B30) -> 待你决定 | I30: =INDEX('明细'!$G$6:$G$72,B30) -> 待你决定
B31: 24 | C31: 46283 | D31: 快递费 同城包裹 | E31: -28 | F31: 和第 23 行日期、文字、金额都一样，而且余额两次都动了，银行确实扣了两次。是该扣的，还是要去要回来？ | G31: 没有建议 | H31: =INDEX('明细'!$E$6:$E$72,B31) -> 待你决定 | I31: =INDEX('明细'!$G$6:$G$72,B31) -> 待你决定
B32: 26 | C32: 46291 | D32: 退款 枫桥布艺 | E32: 188 | F32: 看起来是退款，但原来那笔消费不在这份流水里。那笔消费属于什么分类？ | G32: 没有建议 | H32: =INDEX('明细'!$E$6:$E$72,B32) -> 待你决定 | I32: =INDEX('明细'!$G$6:$G$72,B32) -> 待你决定
B33: 30 | C33: 46301 | D33: 药房 平安巷 | E33: -246 | F33: 写着“药房”，常常是私人开支。是生意上的还是私人的？ | G33: 私人开支 | H33: =INDEX('明细'!$E$6:$E$72,B33) -> 待你决定 | I33: =INDEX('明细'!$G$6:$G$72,B33) -> 待你决定
B34: 31 | C34: 46303 | D34: 电费 10月 | E34: -387.6 | F34: 写着“电费”。是生意上的，还是家里的？告诉我一次，就可以写成规则。 | G34: 水电燃气 | H34: =INDEX('明细'!$E$6:$E$72,B34) -> 待你决定 | I34: =INDEX('明细'!$G$6:$G$72,B34) -> 待你决定
B35: 35 | C35: 46315 | D35: 贷款还款 青浦小贷 | E35: -2600 | F35: 写着“贷款”。还款里常常一部分是本金、一部分是利息，所以你说之前不算支出。放进借贷款项，还是要拆开？ | G35: 借贷款项 | H35: =INDEX('明细'!$E$6:$E$72,B35) -> 待你决定 | I35: =INDEX('明细'!$G$6:$G$72,B35) -> 待你决定
B36: 36 | C36: 46322 | D36: 秋季手作市集摊位 | E36: -1800 | F36: 这行没写钱花在哪里。 | G36: 没有建议 | H36: =INDEX('明细'!$E$6:$E$72,B36) -> 待你决定 | I36: =INDEX('明细'!$G$6:$G$72,B36) -> 待你决定
B38: ¥5,000.00 及以上、你已经答过的行
B39: 行号 | C39: 日期 | D39: 流水原文 | E39: 金额 | F39: 我想问你 | G39: 我的建议 | H39: 现在的分类 | I39: 状态
B40: 1 | C40: 46235 | D40: 房租 禾田创业园B座 | E40: -6500 | F40: 你定的规则：“禾田创业园” | H40: =INDEX('明细'!$E$6:$E$72,B40) -> 房租 | I40: =INDEX('明细'!$G$6:$G$72,B40) -> 你说的
B41: 2 | C41: 46237 | D41: 发票款 春水茶馆 | E41: 12800 | F41: 你定的规则：“春水茶馆” | H41: =INDEX('明细'!$E$6:$E$72,B41) -> 销售和服务收入 | I41: =INDEX('明细'!$G$6:$G$72,B41) -> 你说的
B42: 5 | C42: 46241 | D42: 转入本人储蓄账户6621 | E42: -5000 | F42: 转到你自己的账户“储蓄账户6621” | H42: =INDEX('明细'!$E$6:$E$72,B42) -> 自己账户之间转账 | I42: =INDEX('明细'!$G$6:$G$72,B42) -> 你说的
B43: 11 | C43: 46255 | D43: 发票款 云岫民宿 | E43: 5200 | F43: 你定的规则：“云岫民宿” | H43: =INDEX('明细'!$E$6:$E$72,B43) -> 销售和服务收入 | I43: =INDEX('明细'!$G$6:$G$72,B43) -> 你说的
...

Sheet 明细
A2: 明细
A3: 收入是正数，支出是负数。在「分类」列下拉选择，其他表都会跟着变。
A4: 虚构示例。商家、银行、所有名字和金额都是编的。
A5: 行号 | B5: 日期 | C5: 流水原文 | D5: 金额 | E5: 分类 | F5: 我核对过（填 x） | G5: 状态 | H5: 原因 | I5: 我的建议 | J5: 流水上的余额 | K5: 原文行号 | L5: 可能重复 | M5: month | N5: group | O5: first | P5: base | Q5: last balance | R5: break | S5: neutral | T5: expected | U5: loan | V5: amount changed | W5: balance changed | X5: left out here | Y5: loan booked
A6: 1 | B6: 46235 | C6: 房租 禾田创业园B座 | D6: -6500 | E6: 房租 | G6: =IF(AND(E6="",D6=""),"",IF(OR(E6="",E6='分类汇总'!$C$6),"待你决定",IF(E6<>O6,"你定的",IF(F6<>"","你核对过",P6)))) -> 你说的 | H6: 你定的规则：“禾田创业园” | J6: 17060.4 | K6: 7 | M6: =IF(B6="","",DATE(YEAR(B6),MONTH(B6),1)) -> 46235 | N6: =IF(D6="","",IF(E6="",'分类汇总'!$B$6,IFERROR(INDEX('分类汇总'!$B$6:$B$31,MATCH(E6,'分类汇总'!$C$6:$C$31,0)),"none"))) -> 支出 | O6: 房租 | P6: 你说的 | Q6: =IF(AND(J6<>"",N6<>'分类汇总'!$B$28),J6,'核对'!$C$8) -> 17060.4 | R6: =IF(OR(J6="",D6="",N6='分类汇总'!$B$28,'核对'!$C$8=""),0,IF(ABS('核对'!$C$8+D6-J6)>0.005,1,0)) -> 0 | T6: =IF(R6=1,'核对'!$C$8+D6,"") | V6: =IF(D6="",1,IF(OR(ABS(D6-'读到的原样'!$A$6)>0.005,B6<>'读到的原样'!$B$6),1,0)) -> 0 | W6: =IF(J6="",IF('读到的原样'!$C$6="",0,1),IF('读到的原样'!$C$6="",1,IF(ABS(J6-'读到的原样'!$C$6)>0.005,1,0))) -> 0 | X6: =IF(AND(N6='分类汇总'!$B$28,O6<>E6),1,0) -> 0 | Y6: =IF(AND(U6=1,N6<>"借贷款项",N6<>'分类汇总'!$B$28,N6<>"未决定"),1,0) -> 0
A7: 2 | B7: 46237 | C7: 发票款 春水茶馆 | D7: 12800 | E7: 销售和服务收入 | G7: =IF(AND(E7="",D7=""),"",IF(OR(E7="",E7='分类汇总'!$C$6),"待你决定",IF(E7<>O7,"你定的",IF(F7<>"","你核对过",P7)))) -> 你说的 | H7: 你定的规则：“春水茶馆” | J7: 29860.4 | K7: 8 | M7: =IF(B7="","",DATE(YEAR(B7),MONTH(B7),1)) -> 46235 | N7: =IF(D7="","",IF(E7="",'分类汇总'!$B$6,IFERROR(INDEX('分类汇总'!$B$6:$B$31,MATCH(E7,'分类汇总'!$C$6:$C$31,0)),"none"))) -> 收入 | O7: 销售和服务收入 | P7: 你说的 | Q7: =IF(AND(J7<>"",N7<>'分类汇总'!$B$28),J7,Q6) -> 29860.4 | R7: =IF(OR(J7="",D7="",N7='分类汇总'!$B$28,Q6=""),0,IF(ABS(Q6+D7-J7)>0.005,1,0)) -> 0 | T7: =IF(R7=1,Q6+D7,"") | V7: =IF(D7="",1,IF(OR(ABS(D7-'读到的原样'!$A$7)>0.005,B7<>'读到的原样'!$B$7),1,0)) -> 0 | W7: =IF(J7="",IF('读到的原样'!$C$7="",0,1),IF('读到的原样'!$C$7="",1,IF(ABS(J7-'读到的原样'!$C$7)>0.005,1,0))) -> 0 | X7: =IF(AND(N7='分类汇总'!$B$28,O7<>E7),1,0) -> 0 | Y7: =IF(AND(U7=1,N7<>"借贷款项",N7<>'分类汇总'!$B$28,N7<>"未决定"),1,0) -> 0
A8: 3 | B8: 46238 | C8: 材料款 南浔丝线批发 | D8: -2380 | E8: 进货和材料 | G8: =IF(AND(E8="",D8=""),"",IF(OR(E8="",E8='分类汇总'!$C$6),"待你决定",IF(E8<>O8,"你定的",IF(F8<>"","你核对过",P8)))) -> 你说的 | H8: 你定的规则：“南浔丝线” | J8: 27480.4 | K8: 9 | M8: =IF(B8="","",DATE(YEAR(B8),MONTH(B8),1)) -> 46235 | N8: =IF(D8="","",IF(E8="",'分类汇总'!$B$6,IFERROR(INDEX('分类汇总'!$B$6:$B$31,MATCH(E8,'分类汇总'!$C$6:$C$31,0)),"none"))) -> 支出 | O8: 进货和材料 | P8: 你说的 | Q8: =IF(AND(J8<>"",N8<>'分类汇总'!$B$28),J8,Q7) -> 27480.4 | R8: =IF(OR(J8="",D8="",N8='分类汇总'!$B$28,Q7=""),0,IF(ABS(Q7+D8-J8)>0.005,1,0)) -> 0 | T8: =IF(R8=1,Q7+D8,"") | V8: =IF(D8="",1,IF(OR(ABS(D8-'读到的原样'!$A$8)>0.005,B8<>'读到的原样'!$B$8),1,0)) -> 0 | W8: =IF(J8="",IF('读到的原样'!$C$8="",0,1),IF('读到的原样'!$C$8="",1,IF(ABS(J8-'读到的原样'!$C$8)>0.005,1,0))) -> 0 | X8: =IF(AND(N8='分类汇总'!$B$28,O8<>E8),1,0) -> 0 | Y8: =IF(AND(U8=1,N8<>"借贷款项",N8<>'分类汇总'!$B$28,N8<>"未决定"),1,0) -> 0
A9: 4 | B9: 46239 | C9: 电费 8月 | D9: -412.3 | E9: 待你决定 | G9: =IF(AND(E9="",D9=""),"",IF(OR(E9="",E9='分类汇总'!$C$6),"待你决定",IF(E9<>O9,"你定的",IF(F9<>"","你核对过",P9)))) -> 待你决定 | H9: 写着“电费”。是生意上的，还是家里的？告诉我一次，就可以写成规则。 | I9: 水电燃气 | J9: 27068.1 | K9: 10 | M9: =IF(B9="","",DATE(YEAR(B9),MONTH(B9),1)) -> 46235 | N9: =IF(D9="","",IF(E9="",'分类汇总'!$B$6,IFERROR(INDEX('分类汇总'!$B$6:$B$31,MATCH(E9,'分类汇总'!$C$6:$C$31,0)),"none"))) -> 未决定 | O9: 待你决定 | Q9: =IF(AND(J9<>"",N9<>'分类汇总'!$B$28),J9,Q8) -> 27068.1 | R9: =IF(OR(J9="",D9="",N9='分类汇总'!$B$28,Q8=""),0,IF(ABS(Q8+D9-J9)>0.005,1,0)) -> 0 | T9: =IF(R9=1,Q8+D9,"") | V9: =IF(D9="",1,IF(OR(ABS(D9-'读到的原样'!$A$9)>0.005,B9<>'读到的原样'!$B$9),1,0)) -> 0 | W9: =IF(J9="",IF('读到的原样'!$C$9="",0,1),IF('读到的原样'!$C$9="",1,IF(ABS(J9-'读到的原样'!$C$9)>0.005,1,0))) -> 0 | X9: =IF(AND(N9='分类汇总'!$B$28,O9<>E9),1,0) -> 0 | Y9: =IF(AND(U9=1,N9<>"借贷款项",N9<>'分类汇总'!$B$28,N9<>"未决定"),1,0) -> 0
A10: 5 | B10: 46241 | C10: 转入本人储蓄账户6621 | D10: -5000 | E10: 自己账户之间转账 | G10: =IF(AND(E10="",D10=""),"",IF(OR(E10="",E10='分类汇总'!$C$6),"待你决定",IF(E10<>O10,"你定的",IF(F10<>"","你核对过",P10)))) -> 你说的 | H10: 转到你自己的账户“储蓄账户6621” | J10: 22068.1 | K10: 11 | M10: =IF(B10="","",DATE(YEAR(B10),MONTH(B10),1)) -> 46235 | N10: =IF(D10="","",IF(E10="",'分类汇总'!$B$6,IFERROR(INDEX('分类汇总'!$B$6:$B$31,MATCH(E10,'分类汇总'!$C$6:$C$31,0)),"none"))) -> 自己账户之间转账 | O10: 自己账户之间转账 | P10: 你说的 | Q10: =IF(AND(J10<>"",N10<>'分类汇总'!$B$28),J10,Q9) -> 22068.1 | R10: =IF(OR(J10="",D10="",N10='分类汇总'!$B$28,Q9=""),0,IF(ABS(Q9+D10-J10)>0.005,1,0)) -> 0 | T10: =IF(R10=1,Q9+D10,"") | V10: =IF(D10="",1,IF(OR(ABS(D10-'读到的原样'!$A$10)>0.005,B10<>'读到的原样'!$B$10),1,0)) -> 0 | W10: =IF(J10="",IF('读到的原样'!$C$10="",0,1),IF('读到的原样'!$C$10="",1,IF(ABS(J10-'读到的原样'!$C$10)>0.005,1,0))) -> 0 | X10: =IF(AND(N10='分类汇总'!$B$28,O10<>E10),1,0) -> 0 | Y10: =IF(AND(U10=1,N10<>"借贷款项",N10<>'分类汇总'!$B$28,N10<>"未决定"),1,0) -> 0
A11: 6 | B11: 46243 | C11: ATM取现 文昌路 | D11: -2000 | E11: 待你决定 | G11: =IF(AND(E11="",D11=""),"",IF(OR(E11="",E11='分类汇总'!$C$6),"待你决定",IF(E11<>O11,"你定的",IF(F11<>"","你核对过",P11)))) -> 待你决定 | H11: 取现。我不知道这笔现金买了什么。 | I11: 私人开支 | J11: 20068.1 | K11: 12 | M11: =IF(B11="","",DATE(YEAR(B11),MONTH(B11),1)) -> 46235 | N11: =IF(D11="","",IF(E11="",'分类汇总'!$B$6,IFERROR(INDEX('分类汇总'!$B$6:$B$31,MATCH(E11,'分类汇总'!$C$6:$C$31,0)),"none"))) -> 未决定 | O11: 待你决定 | Q11: =IF(AND(J11<>"",N11<>'分类汇总'!$B$28),J11,Q10) -> 20068.1 | R11: =IF(OR(J11="",D11="",N11='分类汇总'!$B$28,Q10=""),0,IF(ABS(Q10+D11-J11)>0.005,1,0)) -> 0 | T11: =IF(R11=1,Q10+D11,"") | V11: =IF(D11="",1,IF(OR(ABS(D11-'读到的原样'!$A$11)>0.005,B11<>'读到的原样'!$B$11),1,0)) -> 0 | W11: =IF(J11="",IF('读到的原样'!$C$11="",0,1),IF('读到的原样'!$C$11="",1,IF(ABS(J11-'读到的原样'!$C$11)>0.005,1,0))) -> 0 | X11: =IF(AND(N11='分类汇总'!$B$28,O11<>E11),1,0) -> 0 | Y11: =IF(AND(U11=1,N11<>"借贷款项",N11<>'分类汇总'!$B$28,N11<>"未决定"),1,0) -> 0
A12: 7 | B12: 46245 | C12: 快捷支付 邻里超市 | D12: -686.4 | E12: 私人开支 | G12: =IF(AND(E12="",D12=""),"",IF(OR(E12="",E12='分类汇总'!$C$6),"待你决定",IF(E12<>O12,"你定的",IF(F12<>"","你核对过",P12)))) -> 你说的 | H12: 你定的规则：“邻里超市” | J12: 19381.7 | K12: 13 | M12: =IF(B12="","",DATE(YEAR(B12),MONTH(B12),1)) -> 46235 | N12: =IF(D12="","",IF(E12="",'分类汇总'!$B$6,IFERROR(INDEX('分类汇总'!$B$6:$B$31,MATCH(E12,'分类汇总'!$C$6:$C$31,0)),"none"))) -> 私人开支 | O12: 私人开支 | P12: 你说的 | Q12: =IF(AND(J12<>"",N12<>'分类汇总'!$B$28),J12,Q11) -> 19381.7 | R12: =IF(OR(J12="",D12="",N12='分类汇总'!$B$28,Q11=""),0,IF(ABS(Q11+D12-J12)>0.005,1,0)) -> 0 | T12: =IF(R12=1,Q11+D12,"") | V12: =IF(D12="",1,IF(OR(ABS(D12-'读到的原样'!$A$12)>0.005,B12<>'读到的原样'!$B$12),1,0)) -> 0 | W12: =IF(J12="",IF('读到的原样'!$C$12="",0,1),IF('读到的原样'!$C$12="",1,IF(ABS(J12-'读到的原样'!$C$12)>0.005,1,0))) -> 0 | X12: =IF(AND(N12='分类汇总'!$B$28,O12<>E12),1,0) -> 0 | Y12: =IF(AND(U12=1,N12<>"借贷款项",N12<>'分类汇总'!$B$28,N12<>"未决定"),1,0) -> 0
A13: 8 | B13: 46246 | C13: 账户管理费 | D13: -12 | E13: 银行和平台手续费 | G13: =IF(AND(E13="",D13=""),"",IF(OR(E13="",E13='分类汇总'!$C$6),"待你决定",IF(E13<>O13,"你定的",IF(F13<>"","你核对过",P13)))) -> 我们的猜测，没核对 | H13: 这行写着“账户管理费” | J13: 19369.7 | K13: 14 | M13: =IF(B13="","",DATE(YEAR(B13),MONTH(B13),1)) -> 46235 | N13: =IF(D13="","",IF(E13="",'分类汇总'!$B$6,IFERROR(INDEX('分类汇总'!$B$6:$B$31,MATCH(E13,'分类汇总'!$C$6:$C$31,0)),"none"))) -> 支出 | O13: 银行和平台手续费 | P13: 我们的猜测，没核对 | Q13: =IF(AND(J13<>"",N13<>'分类汇总'!$B$28),J13,Q12) -> 19369.7 | R13: =IF(OR(J13="",D13="",N13='分类汇总'!$B$28,Q12=""),0,IF(ABS(Q12+D13-J13)>0.005,1,0)) -> 0 | T13: =IF(R13=1,Q12+D13,"") | V13: =IF(D13="",1,IF(OR(ABS(D13-'读到的原样'!$A$13)>0.005,B13<>'读到的原样'!$B$13),1,0)) -> 0 | W13: =IF(J13="",IF('读到的原样'!$C$13="",0,1),IF('读到的原样'!$C$13="",1,IF(ABS(J13-'读到的原样'!$C$13)>0.005,1,0))) -> 0 | X13: =IF(AND(N13='分类汇总'!$B$28,O13<>E13),1,0) -> 0 | Y13: =IF(AND(U13=1,N13<>"借贷款项",N13<>'分类汇总'!$B$28,N13<>"未决定"),1,0) -> 0
A14: 9 | B14: 46248 | C14: 话费 工作手机 | D14: -129 | E14: 通讯和网络 | G14: =IF(AND(E14="",D14=""),"",IF(OR(E14="",E14='分类汇总'!$C$6),"待你决定",IF(E14<>O14,"你定的",IF(F14<>"","你核对过",P14)))) -> 你说的 | H14: 你定的规则：“工作手机” | J14: 19240.7 | K14: 15 | M14: =IF(B14="","",DATE(YEAR(B14),MONTH(B14),1)) -> 46235 | N14: =IF(D14="","",IF(E14="",'分类汇总'!$B$6,IFERROR(INDEX('分类汇总'!$B$6:$B$31,MATCH(E14,'分类汇总'!$C$6:$C$31,0)),"none"))) -> 支出 | O14: 通讯和网络 | P14: 你说的 | Q14: =IF(AND(J14<>"",N14<>'分类汇总'!$B$28),J14,Q13) -> 19240.7 | R14: =IF(OR(J14="",D14="",N14='分类汇总'!$B$28,Q13=""),0,IF(ABS(Q13+D14-J14)>0.005,1,0)) -> 0 | T14: =IF(R14=1,Q13+D14,"") | V14: =IF(D14="",1,IF(OR(ABS(D14-'读到的原样'!$A$14)>0.005,B14<>'读到的原样'!$B$14),1,0)) -> 0 | W14: =IF(J14="",IF('读到的原样'!$C$14="",0,1),IF('读到的原样'!$C$14="",1,IF(ABS(J14-'读到的原样'!$C$14)>0.005,1,0))) -> 0 | X14: =IF(AND(N14='分类汇总'!$B$28,O14<>E14),1,0) -> 0 | Y14: =IF(AND(U14=1,N14<>"借贷款项",N14<>'分类汇总'!$B$28,N14<>"未决定"),1,0) -> 0
A15: 10 | B15: 46250 | C15: 收款 林女士 | D15: 8600 | E15: 待你决定 | G15: =IF(AND(E15="",D15=""),"",IF(OR(E15="",E15='分类汇总'!$C$6),"待你决定",IF(E15<>O15,"你定的",IF(F15<>"","你核对过",P15)))) -> 待你决定 | H15: 进来一笔钱，这行没写为什么。是销售、借款、你自己的钱，还是别的？ | I15: 销售和服务收入 | J15: 27840.7 | K15: 16 | M15: =IF(B15="","",DATE(YEAR(B15),MONTH(B15),1)) -> 46235 | N15: =IF(D15="","",IF(E15="",'分类汇总'!$B$6,IFERROR(INDEX('分类汇总'!$B$6:$B$31,MATCH(E15,'分类汇总'!$C$6:$C$31,0)),"none"))) -> 未决定 | O15: 待你决定 | Q15: =IF(AND(J15<>"",N15<>'分类汇总'!$B$28),J15,Q14) -> 27840.7 | R15: =IF(OR(J15="",D15="",N15='分类汇总'!$B$28,Q14=""),0,IF(ABS(Q14+D15-J15)>0.005,1,0)) -> 0 | T15: =IF(R15=1,Q14+D15,"") | V15: =IF(D15="",1,IF(OR(ABS(D15-'读到的原样'!$A$15)>0.005,B15<>'读到的原样'!$B$15),1,0)) -> 0 | W15: =IF(J15="",IF('读到的原样'!$C$15="",0,1),IF('读到的原样'!$C$15="",1,IF(ABS(J15-'读到的原样'!$C$15)>0.005,1,0))) -> 0 | X15: =IF(AND(N15='分类汇总'!$B$28,O15<>E15),1,0) -> 0 | Y15: =IF(AND(U15=1,N15<>"借贷款项",N15<>'分类汇总'!$B$28,N15<>"未决定"),1,0) -> 0
A16: 11 | B16: 46255 | C16: 发票款 云岫民宿 | D16: 5200 | E16: 销售和服务收入 | G16: =IF(AND(E16="",D16=""),"",IF(OR(E16="",E16='分类汇总'!$C$6),"待你决定",IF(E16<>O16,"你定的",IF(F16<>"","你核对过",P16)))) -> 你说的 | H16: 你定的规则：“云岫民宿” | J16: 33040.7 | K16: 17 | M16: =IF(B16="","",DATE(YEAR(B16),MONTH(B16),1)) -> 46235 | N16: =IF(D16="","",IF(E16="",'分类汇总'!$B$6,IFERROR(INDEX('分类汇总'!$B$6:$B$31,MATCH(E16,'分类汇总'!$C$6:$C$31,0)),"none"))) -> 收入 | O16: 销售和服务收入 | P16: 你说的 | Q16: =IF(AND(J16<>"",N16<>'分类汇总'!$B$28),J16,Q15) -> 33040.7 | R16: =IF(OR(J16="",D16="",N16='分类汇总'!$B$28,Q15=""),0,IF(ABS(Q15+D16-J16)>0.005,1,0)) -> 0 | T16: =IF(R16=1,Q15+D16,"") | V16: =IF(D16="",1,IF(OR(ABS(D16-'读到的原样'!$A$16)>0.005,B16<>'读到的原样'!$B$16),1,0)) -> 0 | W16: =IF(J16="",IF('读到的原样'!$C$16="",0,1),IF('读到的原样'!$C$16="",1,IF(ABS(J16-'读到的原样'!$C$16)>0.005,1,0))) -> 0 | X16: =IF(AND(N16='分类汇总'!$B$28,O16<>E16),1,0) -> 0 | Y16: =IF(AND(U16=1,N16<>"借贷款项",N16<>'分类汇总'!$B$28,N16<>"未决定"),1,0) -> 0
A17: 12 | B17: 46259 | C17: 财产保险 工作室 | D17: -980 | E17: 保险 | G17: =IF(AND(E17="",D17=""),"",IF(OR(E17="",E17='分类汇总'!$C$6),"待你决定",IF(E17<>O17,"你定的",IF(F17<>"","你核对过",P17)))) -> 你说的 | H17: 你定的规则：“财产保险 工作室” | J17: 32060.7 | K17: 18 | M17: =IF(B17="","",DATE(YEAR(B17),MONTH(B17),1)) -> 46235 | N17: =IF(D17="","",IF(E17="",'分类汇总'!$B$6,IFERROR(INDEX('分类汇总'!$B$6:$B$31,MATCH(E17,'分类汇总'!$C$6:$C$31,0)),"none"))) -> 支出 | O17: 保险 | P17: 你说的 | Q17: =IF(AND(J17<>"",N17<>'分类汇总'!$B$28),J17,Q16) -> 32060.7 | R17: =IF(OR(J17="",D17="",N17='分类汇总'!$B$28,Q16=""),0,IF(ABS(Q16+D17-J17)>0.005,1,0)) -> 0 | T17: =IF(R17=1,Q16+D17,"") | V17: =IF(D17="",1,IF(OR(ABS(D17-'读到的原样'!$A$17)>0.005,B17<>'读到的原样'!$B$17),1,0)) -> 0 | W17: =IF(J17="",IF('读到的原样'!$C$17="",0,1),IF('读到的原样'!$C$17="",1,IF(ABS(J17-'读到的原样'!$C$17)>0.005,1,0))) -> 0 | X17: =IF(AND(N17='分类汇总'!$B$28,O17<>E17),1,0) -> 0 | Y17: =IF(AND(U17=1,N17<>"借贷款项",N17<>'分类汇总'!$B$28,N17<>"未决定"),1,0) -> 0
A18: 13 | B18: 46262 | C18: 设计软件 年度订阅 | D18: -680 | E18: 软件和订阅 | G18: =IF(AND(E18="",D18=""),"",IF(OR(E18="",E18='分类汇总'!$C$6),"待你决定",IF(E18<>O18,"你定的",IF(F18<>"","你核对过",P18)))) -> 你说的 | H18: 你定的规则：“设计软件” | J18: 31380.7 | K18: 19 | M18: =IF(B18="","",DATE(YEAR(B18),MONTH(B18),1)) -> 46235 | N18: =IF(D18="","",IF(E18="",'分类汇总'!$B$6,IFERROR(INDEX('分类汇总'!$B$6:$B$31,MATCH(E18,'分类汇总'!$C$6:$C$31,0)),"none"))) -> 支出 | O18: 软件和订阅 | P18: 你说的 | Q18: =IF(AND(J18<>"",N18<>'分类汇总'!$B$28),J18,Q17) -> 31380.7 | R18: =IF(OR(J18="",D18="",N18='分类汇总'!$B$28,Q17=""),0,IF(ABS(Q17+D18-J18)>0.005,1,0)) -> 0 | T18: =IF(R18=1,Q17+D18,"") | V18: =IF(D18="",1,IF(OR(ABS(D18-'读到的原样'!$A$18)>0.005,B18<>'读到的原样'!$B$18),1,0)) -> 0 | W18: =IF(J18="",IF('读到的原样'!$C$18="",0,1),IF('读到的原样'!$C$18="",1,IF(ABS(J18-'读到的原样'!$C$18)>0.005,1,0))) -> 0 | X18: =IF(AND(N18='分类汇总'!$B$28,O18<>E18),1,0) -> 0 | Y18: =IF(AND(U18=1,N18<>"借贷款项",N18<>'分类汇总'!$B$28,N18<>"未决定"),1,0) -> 0
A19: 14 | B19: 46266 | C19: 房租 禾田创业园B座 | D19: -6500 | E19: 房租 | G19: =IF(AND(E19="",D19=""),"",IF(OR(E19="",E19='分类汇总'!$C$6),"待你决定",IF(E19<>O19,"你定的",IF(F19<>"","你核对过",P19)))) -> 你说的 | H19: 你定的规则：“禾田创业园” | J19: 24880.7 | K19: 23 | M19: =IF(B19="","",DATE(YEAR(B19),MONTH(B19),1)) -> 46266 | N19: =IF(D19="","",IF(E19="",'分类汇总'!$B$6,IFERROR(INDEX('分类汇总'!$B$6:$B$31,MATCH(E19,'分类汇总'!$C$6:$C$31,0)),"none"))) -> 支出 | O19: 房租 | P19: 你说的 | Q19: =IF(AND(J19<>"",N19<>'分类汇总'!$B$28),J19,Q18) -> 24880.7 | R19: =IF(OR(J19="",D19="",N19='分类汇总'!$B$28,Q18=""),0,IF(ABS(Q18+D19-J19)>0.005,1,0)) -> 0 | T19: =IF(R19=1,Q18+D19,"") | V19: =IF(D19="",1,IF(OR(ABS(D19-'读到的原样'!$A$19)>0.005,B19<>'读到的原样'!$B$19),1,0)) -> 0 | W19: =IF(J19="",IF('读到的原样'!$C$19="",0,1),IF('读到的原样'!$C$19="",1,IF(ABS(J19-'读到的原样'!$C$19)>0.005,1,0))) -> 0 | X19: =IF(AND(N19='分类汇总'!$B$28,O19<>E19),1,0) -> 0 | Y19: =IF(AND(U19=1,N19<>"借贷款项",N19<>'分类汇总'!$B$28,N19<>"未决定"),1,0) -> 0
A20: 15 | B20: 46267 | C20: 材料款 南浔丝线批发 | D20: -3120 | E20: 进货和材料 | G20: =IF(AND(E20="",D20=""),"",IF(OR(E20="",E20='分类汇总'!$C$6),"待你决定",IF(E20<>O20,"你定的",IF(F20<>"","你核对过",P20)))) -> 你说的 | H20: 你定的规则：“南浔丝线” | J20: 21760.7 | K20: 24 | M20: =IF(B20="","",DATE(YEAR(B20),MONTH(B20),1)) -> 46266 | N20: =IF(D20="","",IF(E20="",'分类汇总'!$B$6,IFERROR(INDEX('分类汇总'!$B$6:$B$31,MATCH(E20,'分类汇总'!$C$6:$C$31,0)),"none"))) -> 支出 | O20: 进货和材料 | P20: 你说的 | Q20: =IF(AND(J20<>"",N20<>'分类汇总'!$B$28),J20,Q19) -> 21760.7 | R20: =IF(OR(J20="",D20="",N20='分类汇总'!$B$28,Q19=""),0,IF(ABS(Q19+D20-J20)>0.005,1,0)) -> 0 | T20: =IF(R20=1,Q19+D20,"") | V20: =IF(D20="",1,IF(OR(ABS(D20-'读到的原样'!$A$20)>0.005,B20<>'读到的原样'!$B$20),1,0)) -> 0 | W20: =IF(J20="",IF('读到的原样'!$C$20="",0,1),IF('读到的原样'!$C$20="",1,IF(ABS(J20-'读到的原样'!$C$20)>0.005,1,0))) -> 0 | X20: =IF(AND(N20='分类汇总'!$B$28,O20<>E20),1,0) -> 0 | Y20: =IF(AND(U20=1,N20<>"借贷款项",N20<>'分类汇总'!$B$28,N20<>"未决定"),1,0) -> 0
A21: 16 | B21: 46268 | C21: 退款 南浔丝线批发 | D21: 460 | E21: 进货和材料 | G21: =IF(AND(E21="",D21=""),"",IF(OR(E21="",E21='分类汇总'!$C$6),"待你决定",IF(E21<>O21,"你定的",IF(F21<>"","你核对过",P21)))) -> 你说的 | H21: 你定的规则：“南浔丝线” | J21: 22220.7 | K21: 25 | M21: =IF(B21="","",DATE(YEAR(B21),MONTH(B21),1)) -> 46266 | N21: =IF(D21="","",IF(E21="",'分类汇总'!$B$6,IFERROR(INDEX('分类汇总'!$B$6:$B$31,MATCH(E21,'分类汇总'!$C$6:$C$31,0)),"none"))) -> 支出 | O21: 进货和材料 | P21: 你说的 | Q21: =IF(AND(J21<>"",N21<>'分类汇总'!$B$28),J21,Q20) -> 22220.7 | R21: =IF(OR(J21="",D21="",N21='分类汇总'!$B$28,Q20=""),0,IF(ABS(Q20+D21-J21)>0.005,1,0)) -> 0 | T21: =IF(R21=1,Q20+D21,"") | V21: =IF(D21="",1,IF(OR(ABS(D21-'读到的原样'!$A$21)>0.005,B21<>'读到的原样'!$B$21),1,0)) -> 0 | W21: =IF(J21="",IF('读到的原样'!$C$21="",0,1),IF('读到的原样'!$C$21="",1,IF(ABS(J21-'读到的原样'!$C$21)>0.005,1,0))) -> 0 | X21: =IF(AND(N21='分类汇总'!$B$28,O21<>E21),1,0) -> 0 | Y21: =IF(AND(U21=1,N21<>"借贷款项",N21<>'分类汇总'!$B$28,N21<>"未决定"),1,0) -> 0
A22: 17 | B22: 46269 | C22: 发票款 拾光书店 | D22: 17600 | E22: 销售和服务收入 | G22: =IF(AND(E22="",D22=""),"",IF(OR(E22="",E22='分类汇总'!$C$6),"待你决定",IF(E22<>O22,"你定的",IF(F22<>"","你核对过",P22)))) -> 你说的 | H22: 你定的规则：“拾光书店” | J22: 39820.7 | K22: 26 | M22: =IF(B22="","",DATE(YEAR(B22),MONTH(B22),1)) -> 46266 | N22: =IF(D22="","",IF(E22="",'分类汇总'!$B$6,IFERROR(INDEX('分类汇总'!$B$6:$B$31,MATCH(E22,'分类汇总'!$C$6:$C$31,0)),"none"))) -> 收入 | O22: 销售和服务收入 | P22: 你说的 | Q22: =IF(AND(J22<>"",N22<>'分类汇总'!$B$28),J22,Q21) -> 39820.7 | R22: =IF(OR(J22="",D22="",N22='分类汇总'!$B$28,Q21=""),0,IF(ABS(Q21+D22-J22)>0.005,1,0)) -> 0 | T22: =IF(R22=1,Q21+D22,"") | V22: =IF(D22="",1,IF(OR(ABS(D22-'读到的原样'!$A$22)>0.005,B22<>'读到的原样'!$B$22),1,0)) -> 0 | W22: =IF(J22="",IF('读到的原样'!$C$22="",0,1),IF('读到的原样'!$C$22="",1,IF(ABS(J22-'读到的原样'!$C$22)>0.005,1,0))) -> 0 | X22: =IF(AND(N22='分类汇总'!$B$28,O22<>E22),1,0) -> 0 | Y22: =IF(AND(U22=1,N22<>"借贷款项",N22<>'分类汇总'!$B$28,N22<>"未决定"),1,0) -> 0
A23: 18 | B23: 46271 | C23: 激光切割机 设备款 | D23: -18600 | E23: 大额购置 | G23: =IF(AND(E23="",D23=""),"",IF(OR(E23="",E23='分类汇总'!$C$6),"待你决定",IF(E23<>O23,"你定的",IF(F23<>"","你核对过",P23)))) -> 你说的 | H23: 你定的规则：“激光切割机” | J23: 21220.7 | K23: 27 | M23: =IF(B23="","",DATE(YEAR(B23),MONTH(B23),1)) -> 46266 | N23: =IF(D23="","",IF(E23="",'分类汇总'!$B$6,IFERROR(INDEX('分类汇总'!$B$6:$B$31,MATCH(E23,'分类汇总'!$C$6:$C$31,0)),"none"))) -> 大额购置 | O23: 大额购置 | P23: 你说的 | Q23: =IF(AND(J23<>"",N23<>'分类汇总'!$B$28),J23,Q22) -> 21220.7 | R23: =IF(OR(J23="",D23="",N23='分类汇总'!$B$28,Q22=""),0,IF(ABS(Q22+D23-J23)>0.005,1,0)) -> 0 | T23: =IF(R23=1,Q22+D23,"") | V23: =IF(D23="",1,IF(OR(ABS(D23-'读到的原样'!$A$23)>0.005,B23<>'读到的原样'!$B$23),1,0)) -> 0 | W23: =IF(J23="",IF('读到的原样'!$C$23="",0,1),IF('读到的原样'!$C$23="",1,IF(ABS(J23-'读到的原样'!$C$23)>0.005,1,0))) -> 0 | X23: =IF(AND(N23='分类汇总'!$B$28,O23<>E23),1,0) -> 0 | Y23: =IF(AND(U23=1,N23<>"借贷款项",N23<>'分类汇总'!$B$28,N23<>"未决定"),1,0) -> 0
A24: 19 | B24: 46273 | C24: 电费 9月 | D24: -398.8 | E24: 待你决定 | G24: =IF(AND(E24="",D24=""),"",IF(OR(E24="",E24='分类汇总'!$C$6),"待你决定",IF(E24<>O24,"你定的",IF(F24<>"","你核对过",P24)))) -> 待你决定 | H24: 写着“电费”。是生意上的，还是家里的？告诉我一次，就可以写成规则。 | I24: 水电燃气 | J24: 20821.9 | K24: 28 | M24: =IF(B24="","",DATE(YEAR(B24),MONTH(B24),1)) -> 46266 | N24: =IF(D24="","",IF(E24="",'分类汇总'!$B$6,IFERROR(INDEX('分类汇总'!$B$6:$B$31,MATCH(E24,'分类汇总'!$C$6:$C$31,0)),"none"))) -> 未决定 | O24: 待你决定 | Q24: =IF(AND(J24<>"",N24<>'分类汇总'!$B$28),J24,Q23) -> 20821.9 | R24: =IF(OR(J24="",D24="",N24='分类汇总'!$B$28,Q23=""),0,IF(ABS(Q23+D24-J24)>0.005,1,0)) -> 0 | T24: =IF(R24=1,Q23+D24,"") | V24: =IF(D24="",1,IF(OR(ABS(D24-'读到的原样'!$A$24)>0.005,B24<>'读到的原样'!$B$24),1,0)) -> 0 | W24: =IF(J24="",IF('读到的原样'!$C$24="",0,1),IF('读到的原样'!$C$24="",1,IF(ABS(J24-'读到的原样'!$C$24)>0.005,1,0))) -> 0 | X24: =IF(AND(N24='分类汇总'!$B$28,O24<>E24),1,0) -> 0 | Y24: =IF(AND(U24=1,N24<>"借贷款项",N24<>'分类汇总'!$B$28,N24<>"未决定"),1,0) -> 0
A25: 20 | B25: 46275 | C25: 转账 张先生 | D25: -3500 | E25: 待你决定 | G25: =IF(AND(E25="",D25=""),"",IF(OR(E25="",E25='分类汇总'!$C$6),"待你决定",IF(E25<>O25,"你定的",IF(F25<>"","你核对过",P25)))) -> 待你决定 | H25: 是转账，但我不知道对方是谁。是你自己的账户，还是付给别人？ | J25: 17321.9 | K25: 29 | M25: =IF(B25="","",DATE(YEAR(B25),MONTH(B25),1)) -> 46266 | N25: =IF(D25="","",IF(E25="",'分类汇总'!$B$6,IFERROR(INDEX('分类汇总'!$B$6:$B$31,MATCH(E25,'分类汇总'!$C$6:$C$31,0)),"none"))) -> 未决定 | O25: 待你决定 | Q25: =IF(AND(J25<>"",N25<>'分类汇总'!$B$28),J25,Q24) -> 17321.9 | R25: =IF(OR(J25="",D25="",N25='分类汇总'!$B$28,Q24=""),0,IF(ABS(Q24+D25-J25)>0.005,1,0)) -> 0 | T25: =IF(R25=1,Q24+D25,"") | V25: =IF(D25="",1,IF(OR(ABS(D25-'读到的原样'!$A$25)>0.005,B25<>'读到的原样'!$B$25),1,0)) -> 0 | W25: =IF(J25="",IF('读到的原样'!$C$25="",0,1),IF('读到的原样'!$C$25="",1,IF(ABS(J25-'读到的原样'!$C$25)>0.005,1,0))) -> 0 | X25: =IF(AND(N25='分类汇总'!$B$28,O25<>E25),1,0) -> 0 | Y25: =IF(AND(U25=1,N25<>"借贷款项",N25<>'分类汇总'!$B$28,N25<>"未决定"),1,0) -> 0
A26: 21 | B26: 46277 | C26: 代账费 小禾财务 | D26: -600 | E26: 会计和法律 | G26: =IF(AND(E26="",D26=""),"",IF(OR(E26="",E26='分类汇总'!$C$6),"待你决定",IF(E26<>O26,"你定的",IF(F26<>"","你核对过",P26)))) -> 我们的猜测，没核对 | H26: 这行写着“代账” | J26: 16721.9 | K26: 30 | M26: =IF(B26="","",DATE(YEAR(B26),MONTH(B26),1)) -> 46266 | N26: =IF(D26="","",IF(E26="",'分类汇总'!$B$6,IFERROR(INDEX('分类汇总'!$B$6:$B$31,MATCH(E26,'分类汇总'!$C$6:$C$31,0)),"none"))) -> 支出 | O26: 会计和法律 | P26: 我们的猜测，没核对 | Q26: =IF(AND(J26<>"",N26<>'分类汇总'!$B$28),J26,Q25) -> 16721.9 | R26: =IF(OR(J26="",D26="",N26='分类汇总'!$B$28,Q25=""),0,IF(ABS(Q25+D26-J26)>0.005,1,0)) -> 0 | T26: =IF(R26=1,Q25+D26,"") | V26: =IF(D26="",1,IF(OR(ABS(D26-'读到的原样'!$A$26)>0.005,B26<>'读到的原样'!$B$26),1,0)) -> 0 | W26: =IF(J26="",IF('读到的原样'!$C$26="",0,1),IF('读到的原样'!$C$26="",1,IF(ABS(J26-'读到的原样'!$C$26)>0.005,1,0))) -> 0 | X26: =IF(AND(N26='分类汇总'!$B$28,O26<>E26),1,0) -> 0 | Y26: =IF(AND(U26=1,N26<>"借贷款项",N26<>'分类汇总'!$B$28,N26<>"未决定"),1,0) -> 0
A27: 22 | B27: 46279 | C27: 话费 工作手机 | D27: -129 | E27: 通讯和网络 | G27: =IF(AND(E27="",D27=""),"",IF(OR(E27="",E27='分类汇总'!$C$6),"待你决定",IF(E27<>O27,"你定的",IF(F27<>"","你核对过",P27)))) -> 你说的 | H27: 你定的规则：“工作手机” | J27: 16592.9 | K27: 31 | M27: =IF(B27="","",DATE(YEAR(B27),MONTH(B27),1)) -> 46266 | N27: =IF(D27="","",IF(E27="",'分类汇总'!$B$6,IFERROR(INDEX('分类汇总'!$B$6:$B$31,MATCH(E27,'分类汇总'!$C$6:$C$31,0)),"none"))) -> 支出 | O27: 通讯和网络 | P27: 你说的 | Q27: =IF(AND(J27<>"",N27<>'分类汇总'!$B$28),J27,Q26) -> 16592.9 | R27: =IF(OR(J27="",D27="",N27='分类汇总'!$B$28,Q26=""),0,IF(ABS(Q26+D27-J27)>0.005,1,0)) -> 0 | T27: =IF(R27=1,Q26+D27,"") | V27: =IF(D27="",1,IF(OR(ABS(D27-'读到的原样'!$A$27)>0.005,B27<>'读到的原样'!$B$27),1,0)) -> 0 | W27: =IF(J27="",IF('读到的原样'!$C$27="",0,1),IF('读到的原样'!$C$27="",1,IF(ABS(J27-'读到的原样'!$C$27)>0.005,1,0))) -> 0 | X27: =IF(AND(N27='分类汇总'!$B$28,O27<>E27),1,0) -> 0 | Y27: =IF(AND(U27=1,N27<>"借贷款项",N27<>'分类汇总'!$B$28,N27<>"未决定"),1,0) -> 0
A28: 23 | B28: 46283 | C28: 快递费 同城包裹 | D28: -28 | E28: 办公用品 | G28: =IF(AND(E28="",D28=""),"",IF(OR(E28="",E28='分类汇总'!$C$6),"待你决定",IF(E28<>O28,"你定的",IF(F28<>"","你核对过",P28)))) -> 我们的猜测，没核对 | H28: 这行写着“快递费” | J28: 16564.9 | K28: 32 | L28: 可能重复 | M28: =IF(B28="","",DATE(YEAR(B28),MONTH(B28),1)) -> 46266 | N28: =IF(D28="","",IF(E28="",'分类汇总'!$B$6,IFERROR(INDEX('分类汇总'!$B$6:$B$31,MATCH(E28,'分类汇总'!$C$6:$C$31,0)),"none"))) -> 支出 | O28: 办公用品 | P28: 我们的猜测，没核对 | Q28: =IF(AND(J28<>"",N28<>'分类汇总'!$B$28),J28,Q27) -> 16564.9 | R28: =IF(OR(J28="",D28="",N28='分类汇总'!$B$28,Q27=""),0,IF(ABS(Q27+D28-J28)>0.005,1,0)) -> 0 | T28: =IF(R28=1,Q27+D28,"") | V28: =IF(D28="",1,IF(OR(ABS(D28-'读到的原样'!$A$28)>0.005,B28<>'读到的原样'!$B$28),1,0)) -> 0 | W28: =IF(J28="",IF('读到的原样'!$C$28="",0,1),IF('读到的原样'!$C$28="",1,IF(ABS(J28-'读到的原样'!$C$28)>0.005,1,0))) -> 0 | X28: =IF(AND(N28='分类汇总'!$B$28,O28<>E28),1,0) -> 0 | Y28: =IF(AND(U28=1,N28<>"借贷款项",N28<>'分类汇总'!$B$28,N28<>"未决定"),1,0) -> 0
A29: 24 | B29: 46283 | C29: 快递费 同城包裹 | D29: -28 | E29: 待你决定 | G29: =IF(AND(E29="",D29=""),"",IF(OR(E29="",E29='分类汇总'!$C$6),"待你决定",IF(E29<>O29,"你定的",IF(F29<>"","你核对过",P29)))) -> 待你决定 | H29: 和第 23 行日期、文字、金额都一样，而且余额两次都动了，银行确实扣了两次。是该扣的，还是要去要回来？ | J29: 16536.9 | K29: 33 | L29: 可能重复 | M29: =IF(B29="","",DATE(YEAR(B29),MONTH(B29),1)) -> 46266 | N29: =IF(D29="","",IF(E29="",'分类汇总'!$B$6,IFERROR(INDEX('分类汇总'!$B$6:$B$31,MATCH(E29,'分类汇总'!$C$6:$C$31,0)),"none"))) -> 未决定 | O29: 待你决定 | Q29: =IF(AND(J29<>"",N29<>'分类汇总'!$B$28),J29,Q28) -> 16536.9 | R29: =IF(OR(J29="",D29="",N29='分类汇总'!$B$28,Q28=""),0,IF(ABS(Q28+D29-J29)>0.005,1,0)) -> 0 | T29: =IF(R29=1,Q28+D29,"") | V29: =IF(D29="",1,IF(OR(ABS(D29-'读到的原样'!$A$29)>0.005,B29<>'读到的原样'!$B$29),1,0)) -> 0 | W29: =IF(J29="",IF('读到的原样'!$C$29="",0,1),IF('读到的原样'!$C$29="",1,IF(ABS(J29-'读到的原样'!$C$29)>0.005,1,0))) -> 0 | X29: =IF(AND(N29='分类汇总'!$B$28,O29<>E29),1,0) -> 0 | Y29: =IF(AND(U29=1,N29<>"借贷款项",N29<>'分类汇总'!$B$28,N29<>"未决定"),1,0) -> 0
A30: 25 | B30: 46287 | C30: 增值税 9月 | D30: -4200 | E30: 税费和政府缴费 | G30: =IF(AND(E30="",D30=""),"",IF(OR(E30="",E30='分类汇总'!$C$6),"待你决定",IF(E30<>O30,"你定的",IF(F30<>"","你核对过",P30)))) -> 你说的 | H30: 你定的规则：“增值税” | J30: 12336.9 | K30: 34 | M30: =IF(B30="","",DATE(YEAR(B30),MONTH(B30),1)) -> 46266 | N30: =IF(D30="","",IF(E30="",'分类汇总'!$B$6,IFERROR(INDEX('分类汇总'!$B$6:$B$31,MATCH(E30,'分类汇总'!$C$6:$C$31,0)),"none"))) -> 税费和政府缴费 | O30: 税费和政府缴费 | P30: 你说的 | Q30: =IF(AND(J30<>"",N30<>'分类汇总'!$B$28),J30,Q29) -> 12336.9 | R30: =IF(OR(J30="",D30="",N30='分类汇总'!$B$28,Q29=""),0,IF(ABS(Q29+D30-J30)>0.005,1,0)) -> 0 | T30: =IF(R30=1,Q29+D30,"") | V30: =IF(D30="",1,IF(OR(ABS(D30-'读到的原样'!$A$30)>0.005,B30<>'读到的原样'!$B$30),1,0)) -> 0 | W30: =IF(J30="",IF('读到的原样'!$C$30="",0,1),IF('读到的原样'!$C$30="",1,IF(ABS(J30-'读到的原样'!$C$30)>0.005,1,0))) -> 0 | X30: =IF(AND(N30='分类汇总'!$B$28,O30<>E30),1,0) -> 0 | Y30: =IF(AND(U30=1,N30<>"借贷款项",N30<>'分类汇总'!$B$28,N30<>"未决定"),1,0) -> 0
A31: 26 | B31: 46291 | C31: 退款 枫桥布艺 | D31: 188 | E31: 待你决定 | G31: =IF(AND(E31="",D31=""),"",IF(OR(E31="",E31='分类汇总'!$C$6),"待你决定",IF(E31<>O31,"你定的",IF(F31<>"","你核对过",P31)))) -> 待你决定 | H31: 看起来是退款，但原来那笔消费不在这份流水里。那笔消费属于什么分类？ | J31: 12524.9 | K31: 35 | M31: =IF(B31="","",DATE(YEAR(B31),MONTH(B31),1)) -> 46266 | N31: =IF(D31="","",IF(E31="",'分类汇总'!$B$6,IFERROR(INDEX('分类汇总'!$B$6:$B$31,MATCH(E31,'分类汇总'!$C$6:$C$31,0)),"none"))) -> 未决定 | O31: 待你决定 | Q31: =IF(AND(J31<>"",N31<>'分类汇总'!$B$28),J31,Q30) -> 12524.9 | R31: =IF(OR(J31="",D31="",N31='分类汇总'!$B$28,Q30=""),0,IF(ABS(Q30+D31-J31)>0.005,1,0)) -> 0 | T31: =IF(R31=1,Q30+D31,"") | V31: =IF(D31="",1,IF(OR(ABS(D31-'读到的原样'!$A$31)>0.005,B31<>'读到的原样'!$B$31),1,0)) -> 0 | W31: =IF(J31="",IF('读到的原样'!$C$31="",0,1),IF('读到的原样'!$C$31="",1,IF(ABS(J31-'读到的原样'!$C$31)>0.005,1,0))) -> 0 | X31: =IF(AND(N31='分类汇总'!$B$28,O31<>E31),1,0) -> 0 | Y31: =IF(AND(U31=1,N31<>"借贷款项",N31<>'分类汇总'!$B$28,N31<>"未决定"),1,0) -> 0
A32: 27 | B32: 46293 | C32: 账户管理费 | D32: -12 | E32: 银行和平台手续费 | G32: =IF(AND(E32="",D32=""),"",IF(OR(E32="",E32='分类汇总'!$C$6),"待你决定",IF(E32<>O32,"你定的",IF(F32<>"","你核对过",P32)))) -> 我们的猜测，没核对 | H32: 这行写着“账户管理费” | J32: 12512.9 | K32: 36 | M32: =IF(B32="","",DATE(YEAR(B32),MONTH(B32),1)) -> 46266 | N32: =IF(D32="","",IF(E32="",'分类汇总'!$B$6,IFERROR(INDEX('分类汇总'!$B$6:$B$31,MATCH(E32,'分类汇总'!$C$6:$C$31,0)),"none"))) -> 支出 | O32: 银行和平台手续费 | P32: 我们的猜测，没核对 | Q32: =IF(AND(J32<>"",N32<>'分类汇总'!$B$28),J32,Q31) -> 12512.9 | R32: =IF(OR(J32="",D32="",N32='分类汇总'!$B$28,Q31=""),0,IF(ABS(Q31+D32-J32)>0.005,1,0)) -> 0 | T32: =IF(R32=1,Q31+D32,"") | V32: =IF(D32="",1,IF(OR(ABS(D32-'读到的原样'!$A$32)>0.005,B32<>'读到的原样'!$B$32),1,0)) -> 0 | W32: =IF(J32="",IF('读到的原样'!$C$32="",0,1),IF('读到的原样'!$C$32="",1,IF(ABS(J32-'读到的原样'!$C$32)>0.005,1,0))) -> 0 | X32: =IF(AND(N32='分类汇总'!$B$28,O32<>E32),1,0) -> 0 | Y32: =IF(AND(U32=1,N32<>"借贷款项",N32<>'分类汇总'!$B$28,N32<>"未决定"),1,0) -> 0
A33: 28 | B33: 46296 | C33: 房租 禾田创业园B座 | D33: -6500 | E33: 房租 | G33: =IF(AND(E33="",D33=""),"",IF(OR(E33="",E33='分类汇总'!$C$6),"待你决定",IF(E33<>O33,"你定的",IF(F33<>"","你核对过",P33)))) -> 你说的 | H33: 你定的规则：“禾田创业园” | J33: 6012.9 | K33: 40 | M33: =IF(B33="","",DATE(YEAR(B33),MONTH(B33),1)) -> 46296 | N33: =IF(D33="","",IF(E33="",'分类汇总'!$B$6,IFERROR(INDEX('分类汇总'!$B$6:$B$31,MATCH(E33,'分类汇总'!$C$6:$C$31,0)),"none"))) -> 支出 | O33: 房租 | P33: 你说的 | Q33: =IF(AND(J33<>"",N33<>'分类汇总'!$B$28),J33,Q32) -> 6012.9 | R33: =IF(OR(J33="",D33="",N33='分类汇总'!$B$28,Q32=""),0,IF(ABS(Q32+D33-J33)>0.005,1,0)) -> 0 | T33: =IF(R33=1,Q32+D33,"") | V33: =IF(D33="",1,IF(OR(ABS(D33-'读到的原样'!$A$33)>0.005,B33<>'读到的原样'!$B$33),1,0)) -> 0 | W33: =IF(J33="",IF('读到的原样'!$C$33="",0,1),IF('读到的原样'!$C$33="",1,IF(ABS(J33-'读到的原样'!$C$33)>0.005,1,0))) -> 0 | X33: =IF(AND(N33='分类汇总'!$B$28,O33<>E33),1,0) -> 0 | Y33: =IF(AND(U33=1,N33<>"借贷款项",N33<>'分类汇总'!$B$28,N33<>"未决定"),1,0) -> 0
A34: 29 | B34: 46298 | C34: 发票款 春水茶馆 | D34: 11400 | E34: 销售和服务收入 | G34: =IF(AND(E34="",D34=""),"",IF(OR(E34="",E34='分类汇总'!$C$6),"待你决定",IF(E34<>O34,"你定的",IF(F34<>"","你核对过",P34)))) -> 你说的 | H34: 你定的规则：“春水茶馆” | J34: 17412.9 | K34: 41 | M34: =IF(B34="","",DATE(YEAR(B34),MONTH(B34),1)) -> 46296 | N34: =IF(D34="","",IF(E34="",'分类汇总'!$B$6,IFERROR(INDEX('分类汇总'!$B$6:$B$31,MATCH(E34,'分类汇总'!$C$6:$C$31,0)),"none"))) -> 收入 | O34: 销售和服务收入 | P34: 你说的 | Q34: =IF(AND(J34<>"",N34<>'分类汇总'!$B$28),J34,Q33) -> 17412.9 | R34: =IF(OR(J34="",D34="",N34='分类汇总'!$B$28,Q33=""),0,IF(ABS(Q33+D34-J34)>0.005,1,0)) -> 0 | T34: =IF(R34=1,Q33+D34,"") | V34: =IF(D34="",1,IF(OR(ABS(D34-'读到的原样'!$A$34)>0.005,B34<>'读到的原样'!$B$34),1,0)) -> 0 | W34: =IF(J34="",IF('读到的原样'!$C$34="",0,1),IF('读到的原样'!$C$34="",1,IF(ABS(J34-'读到的原样'!$C$34)>0.005,1,0))) -> 0 | X34: =IF(AND(N34='分类汇总'!$B$28,O34<>E34),1,0) -> 0 | Y34: =IF(AND(U34=1,N34<>"借贷款项",N34<>'分类汇总'!$B$28,N34<>"未决定"),1,0) -> 0
A35: 30 | B35: 46301 | C35: 药房 平安巷 | D35: -246 | E35: 待你决定 | G35: =IF(AND(E35="",D35=""),"",IF(OR(E35="",E35='分类汇总'!$C$6),"待你决定",IF(E35<>O35,"你定的",IF(F35<>"","你核对过",P35)))) -> 待你决定 | H35: 写着“药房”，常常是私人开支。是生意上的还是私人的？ | I35: 私人开支 | J35: 17166.9 | K35: 42 | M35: =IF(B35="","",DATE(YEAR(B35),MONTH(B35),1)) -> 46296 | N35: =IF(D35="","",IF(E35="",'分类汇总'!$B$6,IFERROR(INDEX('分类汇总'!$B$6:$B$31,MATCH(E35,'分类汇总'!$C$6:$C$31,0)),"none"))) -> 未决定 | O35: 待你决定 | Q35: =IF(AND(J35<>"",N35<>'分类汇总'!$B$28),J35,Q34) -> 17166.9 | R35: =IF(OR(J35="",D35="",N35='分类汇总'!$B$28,Q34=""),0,IF(ABS(Q34+D35-J35)>0.005,1,0)) -> 0 | T35: =IF(R35=1,Q34+D35,"") | V35: =IF(D35="",1,IF(OR(ABS(D35-'读到的原样'!$A$35)>0.005,B35<>'读到的原样'!$B$35),1,0)) -> 0 | W35: =IF(J35="",IF('读到的原样'!$C$35="",0,1),IF('读到的原样'!$C$35="",1,IF(ABS(J35-'读到的原样'!$C$35)>0.005,1,0))) -> 0 | X35: =IF(AND(N35='分类汇总'!$B$28,O35<>E35),1,0) -> 0 | Y35: =IF(AND(U35=1,N35<>"借贷款项",N35<>'分类汇总'!$B$28,N35<>"未决定"),1,0) -> 0
A36: 31 | B36: 46303 | C36: 电费 10月 | D36: -387.6 | E36: 待你决定 | G36: =IF(AND(E36="",D36=""),"",IF(OR(E36="",E36='分类汇总'!$C$6),"待你决定",IF(E36<>O36,"你定的",IF(F36<>"","你核对过",P36)))) -> 待你决定 | H36: 写着“电费”。是生意上的，还是家里的？告诉我一次，就可以写成规则。 | I36: 水电燃气 | J36: 16779.3 | K36: 43 | M36: =IF(B36="","",DATE(YEAR(B36),MONTH(B36),1)) -> 46296 | N36: =IF(D36="","",IF(E36="",'分类汇总'!$B$6,IFERROR(INDEX('分类汇总'!$B$6:$B$31,MATCH(E36,'分类汇总'!$C$6:$C$31,0)),"none"))) -> 未决定 | O36: 待你决定 | Q36: =IF(AND(J36<>"",N36<>'分类汇总'!$B$28),J36,Q35) -> 16779.3 | R36: =IF(OR(J36="",D36="",N36='分类汇总'!$B$28,Q35=""),0,IF(ABS(Q35+D36-J36)>0.005,1,0)) -> 0 | T36: =IF(R36=1,Q35+D36,"") | V36: =IF(D36="",1,IF(OR(ABS(D36-'读到的原样'!$A$36)>0.005,B36<>'读到的原样'!$B$36),1,0)) -> 0 | W36: =IF(J36="",IF('读到的原样'!$C$36="",0,1),IF('读到的原样'!$C$36="",1,IF(ABS(J36-'读到的原样'!$C$36)>0.005,1,0))) -> 0 | X36: =IF(AND(N36='分类汇总'!$B$28,O36<>E36),1,0) -> 0 | Y36: =IF(AND(U36=1,N36<>"借贷款项",N36<>'分类汇总'!$B$28,N36<>"未决定"),1,0) -> 0
A37: 32 | B37: 46304 | C37: 转入本人储蓄账户6621 | D37: -4000 | E37: 自己账户之间转账 | G37: =IF(AND(E37="",D37=""),"",IF(OR(E37="",E37='分类汇总'!$C$6),"待你决定",IF(E37<>O37,"你定的",IF(F37<>"","你核对过",P37)))) -> 你说的 | H37: 转到你自己的账户“储蓄账户6621” | J37: 12779.3 | K37: 44 | M37: =IF(B37="","",DATE(YEAR(B37),MONTH(B37),1)) -> 46296 | N37: =IF(D37="","",IF(E37="",'分类汇总'!$B$6,IFERROR(INDEX('分类汇总'!$B$6:$B$31,MATCH(E37,'分类汇总'!$C$6:$C$31,0)),"none"))) -> 自己账户之间转账 | O37: 自己账户之间转账 | P37: 你说的 | Q37: =IF(AND(J37<>"",N37<>'分类汇总'!$B$28),J37,Q36) -> 12779.3 | R37: =IF(OR(J37="",D37="",N37='分类汇总'!$B$28,Q36=""),0,IF(ABS(Q36+D37-J37)>0.005,1,0)) -> 0 | T37: =IF(R37=1,Q36+D37,"") | V37: =IF(D37="",1,IF(OR(ABS(D37-'读到的原样'!$A$37)>0.005,B37<>'读到的原样'!$B$37),1,0)) -> 0 | W37: =IF(J37="",IF('读到的原样'!$C$37="",0,1),IF('读到的原样'!$C$37="",1,IF(ABS(J37-'读到的原样'!$C$37)>0.005,1,0))) -> 0 | X37: =IF(AND(N37='分类汇总'!$B$28,O37<>E37),1,0) -> 0 | Y37: =IF(AND(U37=1,N37<>"借贷款项",N37<>'分类汇总'!$B$28,N37<>"未决定"),1,0) -> 0
A38: 33 | B38: 46309 | C38: 话费 工作手机 | D38: -129 | E38: 通讯和网络 | G38: =IF(AND(E38="",D38=""),"",IF(OR(E38="",E38='分类汇总'!$C$6),"待你决定",IF(E38<>O38,"你定的",IF(F38<>"","你核对过",P38)))) -> 你说的 | H38: 你定的规则：“工作手机” | J38: 12650.3 | K38: 45 | M38: =IF(B38="","",DATE(YEAR(B38),MONTH(B38),1)) -> 46296 | N38: =IF(D38="","",IF(E38="",'分类汇总'!$B$6,IFERROR(INDEX('分类汇总'!$B$6:$B$31,MATCH(E38,'分类汇总'!$C$6:$C$31,0)),"none"))) -> 支出 | O38: 通讯和网络 | P38: 你说的 | Q38: =IF(AND(J38<>"",N38<>'分类汇总'!$B$28),J38,Q37) -> 12650.3 | R38: =IF(OR(J38="",D38="",N38='分类汇总'!$B$28,Q37=""),0,IF(ABS(Q37+D38-J38)>0.005,1,0)) -> 0 | T38: =IF(R38=1,Q37+D38,"") | V38: =IF(D38="",1,IF(OR(ABS(D38-'读到的原样'!$A$38)>0.005,B38<>'读到的原样'!$B$38),1,0)) -> 0 | W38: =IF(J38="",IF('读到的原样'!$C$38="",0,1),IF('读到的原样'!$C$38="",1,IF(ABS(J38-'读到的原样'!$C$38)>0.005,1,0))) -> 0 | X38: =IF(AND(N38='分类汇总'!$B$28,O38<>E38),1,0) -> 0 | Y38: =IF(AND(U38=1,N38<>"借贷款项",N38<>'分类汇总'!$B$28,N38<>"未决定"),1,0) -> 0
A39: 34 | B39: 46310 | C39: 发票款 云岫民宿 | D39: 3800 | E39: 销售和服务收入 | G39: =IF(AND(E39="",D39=""),"",IF(OR(E39="",E39='分类汇总'!$C$6),"待你决定",IF(E39<>O39,"你定的",IF(F39<>"","你核对过",P39)))) -> 你说的 | H39: 你定的规则：“云岫民宿” | J39: 16450.3 | K39: 46 | M39: =IF(B39="","",DATE(YEAR(B39),MONTH(B39),1)) -> 46296 | N39: =IF(D39="","",IF(E39="",'分类汇总'!$B$6,IFERROR(INDEX('分类汇总'!$B$6:$B$31,MATCH(E39,'分类汇总'!$C$6:$C$31,0)),"none"))) -> 收入 | O39: 销售和服务收入 | P39: 你说的 | Q39: =IF(AND(J39<>"",N39<>'分类汇总'!$B$28),J39,Q38) -> 16450.3 | R39: =IF(OR(J39="",D39="",N39='分类汇总'!$B$28,Q38=""),0,IF(ABS(Q38+D39-J39)>0.005,1,0)) -> 0 | T39: =IF(R39=1,Q38+D39,"") | V39: =IF(D39="",1,IF(OR(ABS(D39-'读到的原样'!$A$39)>0.005,B39<>'读到的原样'!$B$39),1,0)) -> 0 | W39: =IF(J39="",IF('读到的原样'!$C$39="",0,1),IF('读到的原样'!$C$39="",1,IF(ABS(J39-'读到的原样'!$C$39)>0.005,1,0))) -> 0 | X39: =IF(AND(N39='分类汇总'!$B$28,O39<>E39),1,0) -> 0 | Y39: =IF(AND(U39=1,N39<>"借贷款项",N39<>'分类汇总'!$B$28,N39<>"未决定"),1,0) -> 0
A40: 35 | B40: 46315 | C40: 贷款还款 青浦小贷 | D40: -2600 | E40: 待你决定 | G40: =IF(AND(E40="",D40=""),"",IF(OR(E40="",E40='分类汇总'!$C$6),"待你决定",IF(E40<>O40,"你定的",IF(F40<>"","你核对过",P40)))) -> 待你决定 | H40: 写着“贷款”。还款里常常一部分是本金、一部分是利息，所以你说之前不算支出。放进借贷款项，还是要拆开？ | I40: 借贷款项 | J40: 13850.3 | K40: 47 | M40: =IF(B40="","",DATE(YEAR(B40),MONTH(B40),1)) -> 46296 | N40: =IF(D40="","",IF(E40="",'分类汇总'!$B$6,IFERROR(INDEX('分类汇总'!$B$6:$B$31,MATCH(E40,'分类汇总'!$C$6:$C$31,0)),"none"))) -> 未决定 | O40: 待你决定 | Q40: =IF(AND(J40<>"",N40<>'分类汇总'!$B$28),J40,Q39) -> 13850.3 | R40: =IF(OR(J40="",D40="",N40='分类汇总'!$B$28,Q39=""),0,IF(ABS(Q39+D40-J40)>0.005,1,0)) -> 0 | T40: =IF(R40=1,Q39+D40,"") | U40: 1 | V40: =IF(D40="",1,IF(OR(ABS(D40-'读到的原样'!$A$40)>0.005,B40<>'读到的原样'!$B$40),1,0)) -> 0 | W40: =IF(J40="",IF('读到的原样'!$C$40="",0,1),IF('读到的原样'!$C$40="",1,IF(ABS(J40-'读到的原样'!$C$40)>0.005,1,0))) -> 0 | X40: =IF(AND(N40='分类汇总'!$B$28,O40<>E40),1,0) -> 0 | Y40: =IF(AND(U40=1,N40<>"借贷款项",N40<>'分类汇总'!$B$28,N40<>"未决定"),1,0) -> 0
A41: 36 | B41: 46322 | C41: 秋季手作市集摊位 | D41: -1800 | E41: 待你决定 | G41: =IF(AND(E41="",D41=""),"",IF(OR(E41="",E41='分类汇总'!$C$6),"待你决定",IF(E41<>O41,"你定的",IF(F41<>"","你核对过",P41)))) -> 待你决定 | H41: 这行没写钱花在哪里。 | J41: 12050.3 | K41: 48 | M41: =IF(B41="","",DATE(YEAR(B41),MONTH(B41),1)) -> 46296 | N41: =IF(D41="","",IF(E41="",'分类汇总'!$B$6,IFERROR(INDEX('分类汇总'!$B$6:$B$31,MATCH(E41,'分类汇总'!$C$6:$C$31,0)),"none"))) -> 未决定 | O41: 待你决定 | Q41: =IF(AND(J41<>"",N41<>'分类汇总'!$B$28),J41,Q40) -> 12050.3 | R41: =IF(OR(J41="",D41="",N41='分类汇总'!$B$28,Q40=""),0,IF(ABS(Q40+D41-J41)>0.005,1,0)) -> 0 | T41: =IF(R41=1,Q40+D41,"") | V41: =IF(D41="",1,IF(OR(ABS(D41-'读到的原样'!$A$41)>0.005,B41<>'读到的原样'!$B$41),1,0)) -> 0 | W41: =IF(J41="",IF('读到的原样'!$C$41="",0,1),IF('读到的原样'!$C$41="",1,IF(ABS(J41-'读到的原样'!$C$41)>0.005,1,0))) -> 0 | X41: =IF(AND(N41='分类汇总'!$B$28,O41<>E41),1,0) -> 0 | Y41: =IF(AND(U41=1,N41<>"借贷款项",N41<>'分类汇总'!$B$28,N41<>"未决定"),1,0) -> 0
...

Sheet 分类汇总
B2: 分类汇总
B3: 退款记在它退回的那个分类的「收入」列，并减少这个分类的净额。
B4: 虚构示例。商家、银行、所有名字和金额都是编的。
B5: 大类 | C5: 分类 | D5: 行数 | E5: 收入 | F5: 支出 | G5: 净额
B6: 未决定 | C6: 待你决定 | D6: =IF(C6="","",COUNTIFS('明细'!$N$6:$N$72,'分类汇总'!$B$6,'明细'!$D$6:$D$72,"<>")) -> 11 | E6: =IF(C6="","",SUMIFS('明细'!$D$6:$D$72,'明细'!$N$6:$N$72,'分类汇总'!$B$6,'明细'!$D$6:$D$72,">0")) -> 8788 | F6: =IF(C6="","",SUMIFS('明细'!$D$6:$D$72,'明细'!$N$6:$N$72,'分类汇总'!$B$6,'明细'!$D$6:$D$72,"<0")) -> -11372.7 | G6: =IF(C6="","",E6+F6) -> -2584.7
B7: 收入 | C7: 销售和服务收入 | D7: =IF(C7="","",COUNTIFS('明细'!$E$6:$E$72,C7,'明细'!$D$6:$D$72,"<>")) -> 5 | E7: =IF(C7="","",SUMIFS('明细'!$D$6:$D$72,'明细'!$E$6:$E$72,C7,'明细'!$D$6:$D$72,">0")) -> 50800 | F7: =IF(C7="","",SUMIFS('明细'!$D$6:$D$72,'明细'!$E$6:$E$72,C7,'明细'!$D$6:$D$72,"<0")) -> 0 | G7: =IF(C7="","",E7+F7) -> 50800
B8: 收入 | C8: 利息收入 | D8: =IF(C8="","",COUNTIFS('明细'!$E$6:$E$72,C8,'明细'!$D$6:$D$72,"<>")) -> 1 | E8: =IF(C8="","",SUMIFS('明细'!$D$6:$D$72,'明细'!$E$6:$E$72,C8,'明细'!$D$6:$D$72,">0")) -> 12.5 | F8: =IF(C8="","",SUMIFS('明细'!$D$6:$D$72,'明细'!$E$6:$E$72,C8,'明细'!$D$6:$D$72,"<0")) -> 0 | G8: =IF(C8="","",E8+F8) -> 12.5
B9: 收入 | C9: 其他收入 | D9: =IF(C9="","",COUNTIFS('明细'!$E$6:$E$72,C9,'明细'!$D$6:$D$72,"<>")) -> 0 | E9: =IF(C9="","",SUMIFS('明细'!$D$6:$D$72,'明细'!$E$6:$E$72,C9,'明细'!$D$6:$D$72,">0")) -> 0 | F9: =IF(C9="","",SUMIFS('明细'!$D$6:$D$72,'明细'!$E$6:$E$72,C9,'明细'!$D$6:$D$72,"<0")) -> 0 | G9: =IF(C9="","",E9+F9) -> 0
B10: 支出 | C10: 进货和材料 | D10: =IF(C10="","",COUNTIFS('明细'!$E$6:$E$72,C10,'明细'!$D$6:$D$72,"<>")) -> 3 | E10: =IF(C10="","",SUMIFS('明细'!$D$6:$D$72,'明细'!$E$6:$E$72,C10,'明细'!$D$6:$D$72,">0")) -> 460 | F10: =IF(C10="","",SUMIFS('明细'!$D$6:$D$72,'明细'!$E$6:$E$72,C10,'明细'!$D$6:$D$72,"<0")) -> -5500 | G10: =IF(C10="","",E10+F10) -> -5040
B11: 支出 | C11: 工资和外包 | D11: =IF(C11="","",COUNTIFS('明细'!$E$6:$E$72,C11,'明细'!$D$6:$D$72,"<>")) -> 0 | E11: =IF(C11="","",SUMIFS('明细'!$D$6:$D$72,'明细'!$E$6:$E$72,C11,'明细'!$D$6:$D$72,">0")) -> 0 | F11: =IF(C11="","",SUMIFS('明细'!$D$6:$D$72,'明细'!$E$6:$E$72,C11,'明细'!$D$6:$D$72,"<0")) -> 0 | G11: =IF(C11="","",E11+F11) -> 0
B12: 支出 | C12: 房租 | D12: =IF(C12="","",COUNTIFS('明细'!$E$6:$E$72,C12,'明细'!$D$6:$D$72,"<>")) -> 3 | E12: =IF(C12="","",SUMIFS('明细'!$D$6:$D$72,'明细'!$E$6:$E$72,C12,'明细'!$D$6:$D$72,">0")) -> 0 | F12: =IF(C12="","",SUMIFS('明细'!$D$6:$D$72,'明细'!$E$6:$E$72,C12,'明细'!$D$6:$D$72,"<0")) -> -19500 | G12: =IF(C12="","",E12+F12) -> -19500
B13: 支出 | C13: 水电燃气 | D13: =IF(C13="","",COUNTIFS('明细'!$E$6:$E$72,C13,'明细'!$D$6:$D$72,"<>")) -> 0 | E13: =IF(C13="","",SUMIFS('明细'!$D$6:$D$72,'明细'!$E$6:$E$72,C13,'明细'!$D$6:$D$72,">0")) -> 0 | F13: =IF(C13="","",SUMIFS('明细'!$D$6:$D$72,'明细'!$E$6:$E$72,C13,'明细'!$D$6:$D$72,"<0")) -> 0 | G13: =IF(C13="","",E13+F13) -> 0
B14: 支出 | C14: 通讯和网络 | D14: =IF(C14="","",COUNTIFS('明细'!$E$6:$E$72,C14,'明细'!$D$6:$D$72,"<>")) -> 3 | E14: =IF(C14="","",SUMIFS('明细'!$D$6:$D$72,'明细'!$E$6:$E$72,C14,'明细'!$D$6:$D$72,">0")) -> 0 | F14: =IF(C14="","",SUMIFS('明细'!$D$6:$D$72,'明细'!$E$6:$E$72,C14,'明细'!$D$6:$D$72,"<0")) -> -387 | G14: =IF(C14="","",E14+F14) -> -387
B15: 支出 | C15: 软件和订阅 | D15: =IF(C15="","",COUNTIFS('明细'!$E$6:$E$72,C15,'明细'!$D$6:$D$72,"<>")) -> 1 | E15: =IF(C15="","",SUMIFS('明细'!$D$6:$D$72,'明细'!$E$6:$E$72,C15,'明细'!$D$6:$D$72,">0")) -> 0 | F15: =IF(C15="","",SUMIFS('明细'!$D$6:$D$72,'明细'!$E$6:$E$72,C15,'明细'!$D$6:$D$72,"<0")) -> -680 | G15: =IF(C15="","",E15+F15) -> -680
B16: 支出 | C16: 广告推广 | D16: =IF(C16="","",COUNTIFS('明细'!$E$6:$E$72,C16,'明细'!$D$6:$D$72,"<>")) -> 0 | E16: =IF(C16="","",SUMIFS('明细'!$D$6:$D$72,'明细'!$E$6:$E$72,C16,'明细'!$D$6:$D$72,">0")) -> 0 | F16: =IF(C16="","",SUMIFS('明细'!$D$6:$D$72,'明细'!$E$6:$E$72,C16,'明细'!$D$6:$D$72,"<0")) -> 0 | G16: =IF(C16="","",E16+F16) -> 0
B17: 支出 | C17: 交通差旅 | D17: =IF(C17="","",COUNTIFS('明细'!$E$6:$E$72,C17,'明细'!$D$6:$D$72,"<>")) -> 0 | E17: =IF(C17="","",SUMIFS('明细'!$D$6:$D$72,'明细'!$E$6:$E$72,C17,'明细'!$D$6:$D$72,">0")) -> 0 | F17: =IF(C17="","",SUMIFS('明细'!$D$6:$D$72,'明细'!$E$6:$E$72,C17,'明细'!$D$6:$D$72,"<0")) -> 0 | G17: =IF(C17="","",E17+F17) -> 0
B18: 支出 | C18: 办公用品 | D18: =IF(C18="","",COUNTIFS('明细'!$E$6:$E$72,C18,'明细'!$D$6:$D$72,"<>")) -> 1 | E18: =IF(C18="","",SUMIFS('明细'!$D$6:$D$72,'明细'!$E$6:$E$72,C18,'明细'!$D$6:$D$72,">0")) -> 0 | F18: =IF(C18="","",SUMIFS('明细'!$D$6:$D$72,'明细'!$E$6:$E$72,C18,'明细'!$D$6:$D$72,"<0")) -> -28 | G18: =IF(C18="","",E18+F18) -> -28
... B28: 不计入 | C28: 不计入（重复或没成交） | D28: =IF(C28="","",COUNTIFS('明细'!$E$6:$E$72,C28,'明细'!$D$6:$D$72,"<>")) -> 0 | E28: =IF(C28="","",SUMIFS('明细'!$D$6:$D$72,'明细'!$E$6:$E$72,C28,'明细'!$D$6:$D$72,">0")) -> 0 | F28: =IF(C28="","",SUMIFS('明细'!$D$6:$D$72,'明细'!$E$6:$E$72,C28,'明细'!$D$6:$D$72,"<0")) -> 0 | G28: =IF(C28="","",E28+F28) -> 0
B29: 支出 | D29: =IF(C29="","",COUNTIFS('明细'!$E$6:$E$72,C29,'明细'!$D$6:$D$72,"<>")) | E29: =IF(C29="","",SUMIFS('明细'!$D$6:$D$72,'明细'!$E$6:$E$72,C29,'明细'!$D$6:$D$72,">0")) | F29: =IF(C29="","",SUMIFS('明细'!$D$6:$D$72,'明细'!$E$6:$E$72,C29,'明细'!$D$6:$D$72,"<0")) | G29: =IF(C29="","",E29+F29)
B30: 支出 | D30: =IF(C30="","",COUNTIFS('明细'!$E$6:$E$72,C30,'明细'!$D$6:$D$72,"<>")) | E30: =IF(C30="","",SUMIFS('明细'!$D$6:$D$72,'明细'!$E$6:$E$72,C30,'明细'!$D$6:$D$72,">0")) | F30: =IF(C30="","",SUMIFS('明细'!$D$6:$D$72,'明细'!$E$6:$E$72,C30,'明细'!$D$6:$D$72,"<0")) | G30: =IF(C30="","",E30+F30)
B31: 支出 | D31: =IF(C31="","",COUNTIFS('明细'!$E$6:$E$72,C31,'明细'!$D$6:$D$72,"<>")) | E31: =IF(C31="","",SUMIFS('明细'!$D$6:$D$72,'明细'!$E$6:$E$72,C31,'明细'!$D$6:$D$72,">0")) | F31: =IF(C31="","",SUMIFS('明细'!$D$6:$D$72,'明细'!$E$6:$E$72,C31,'明细'!$D$6:$D$72,"<0")) | G31: =IF(C31="","",E31+F31)
B32: 所有分类 | G32: =SUM(G6:G31)-G28 -> -11497.6
B33: 流水所有行 | G33: =SUMIFS('明细'!$D$6:$D$72,'明细'!$N$6:$N$72,"<>"&$B$28) -> -11497.6
B34: 差额 | G34: =ROUND(G32-G33,2) -> 0
B36: 按大类合计
B37: 大类 | D37: 行数 | E37: 净额
B38: 未决定 | D38: =SUMIFS('分类汇总'!$D$6:$D$31,'分类汇总'!$B$6:$B$31,B38) -> 11 | E38: =SUMIFS('分类汇总'!$G$6:$G$31,'分类汇总'!$B$6:$B$31,B38) -> -2584.7
B39: 收入 | D39: =SUMIFS('分类汇总'!$D$6:$D$31,'分类汇总'!$B$6:$B$31,B39) -> 6 | E39: =SUMIFS('分类汇总'!$G$6:$G$31,'分类汇总'!$B$6:$B$31,B39) -> 50812.5
B40: 支出 | D40: =SUMIFS('分类汇总'!$D$6:$D$31,'分类汇总'!$B$6:$B$31,B40) -> 15 | E40: =SUMIFS('分类汇总'!$G$6:$G$31,'分类汇总'!$B$6:$B$31,B40) -> -27239
B41: 税费和政府缴费 | D41: =SUMIFS('分类汇总'!$D$6:$D$31,'分类汇总'!$B$6:$B$31,B41) -> 1 | E41: =SUMIFS('分类汇总'!$G$6:$G$31,'分类汇总'!$B$6:$B$31,B41) -> -4200
B42: 私人开支 | D42: =SUMIFS('分类汇总'!$D$6:$D$31,'分类汇总'!$B$6:$B$31,B42) -> 1 | E42: =SUMIFS('分类汇总'!$G$6:$G$31,'分类汇总'!$B$6:$B$31,B42) -> -686.4
B43: 大额购置 | D43: =SUMIFS('分类汇总'!$D$6:$D$31,'分类汇总'!$B$6:$B$31,B43) -> 1 | E43: =SUMIFS('分类汇总'!$G$6:$G$31,'分类汇总'!$B$6:$B$31,B43) -> -18600
B44: 自己账户之间转账 | D44: =SUMIFS('分类汇总'!$D$6:$D$31,'分类汇总'!$B$6:$B$31,B44) -> 2 | E44: =SUMIFS('分类汇总'!$G$6:$G$31,'分类汇总'!$B$6:$B$31,B44) -> -9000
B45: 借贷款项 | D45: =SUMIFS('分类汇总'!$D$6:$D$31,'分类汇总'!$B$6:$B$31,B45) -> 0 | E45: =SUMIFS('分类汇总'!$G$6:$G$31,'分类汇总'!$B$6:$B$31,B45) -> 0
B46: 不计入 | D46: =SUMIFS('分类汇总'!$D$6:$D$31,'分类汇总'!$B$6:$B$31,B46) -> 0 | E46: =SUMIFS('分类汇总'!$G$6:$G$31,'分类汇总'!$B$6:$B$31,B46) -> 0

Sheet 月度汇总
B2: 月度汇总
B3: 虚构示例。商家、银行、所有名字和金额都是编的。
B5: 月份 | C5: 收入 | D5: 支出 | E5: 税费和政府缴费 | F5: 私人开支 | G5: 大额购置 | H5: 自己账户之间转账 | I5: 借贷款项 | J5: 未决定 | K5: 净变动
B6: =DATE(YEAR(MIN('明细'!$B$6:$B$72)),MONTH(MIN('明细'!$B$6:$B$72)),1) -> 46235 | C6: =SUMIFS('明细'!$D$6:$D$72,'明细'!$M$6:$M$72,$B6,'明细'!$N$6:$N$72,'分类汇总'!$B$39) -> 18000 | D6: =-SUMIFS('明细'!$D$6:$D$72,'明细'!$M$6:$M$72,$B6,'明细'!$N$6:$N$72,'分类汇总'!$B$40) -> 10681 | E6: =-SUMIFS('明细'!$D$6:$D$72,'明细'!$M$6:$M$72,$B6,'明细'!$N$6:$N$72,'分类汇总'!$B$41) -> 0 | F6: =-SUMIFS('明细'!$D$6:$D$72,'明细'!$M$6:$M$72,$B6,'明细'!$N$6:$N$72,'分类汇总'!$B$42) -> 686.4 | G6: =-SUMIFS('明细'!$D$6:$D$72,'明细'!$M$6:$M$72,$B6,'明细'!$N$6:$N$72,'分类汇总'!$B$43) -> 0 | H6: =SUMIFS('明细'!$D$6:$D$72,'明细'!$M$6:$M$72,$B6,'明细'!$N$6:$N$72,'分类汇总'!$B$44) -> -5000 | I6: =SUMIFS('明细'!$D$6:$D$72,'明细'!$M$6:$M$72,$B6,'明细'!$N$6:$N$72,'分类汇总'!$B$45) -> 0 | J6: =SUMIFS('明细'!$D$6:$D$72,'明细'!$M$6:$M$72,$B6,'明细'!$N$6:$N$72,'分类汇总'!$B$38,'明细'!$D$6:$D$72,">0")-SUMIFS('明细'!$D$6:$D$72,'明细'!$M$6:$M$72,$B6,'明细'!$N$6:$N$72,'分类汇总'!$B$38,'明细'!$D$6:$D$72,"<0") -> 11012.3 | K6: =SUMIFS('明细'!$D$6:$D$72,'明细'!$M$6:$M$72,$B6,'明细'!$N$6:$N$72,"<>"&'分类汇总'!$B$28) -> 7820.3
B7: =EDATE(B6,1) -> 46266 | C7: =SUMIFS('明细'!$D$6:$D$72,'明细'!$M$6:$M$72,$B7,'明细'!$N$6:$N$72,'分类汇总'!$B$39) -> 17600 | D7: =-SUMIFS('明细'!$D$6:$D$72,'明细'!$M$6:$M$72,$B7,'明细'!$N$6:$N$72,'分类汇总'!$B$40) -> 9929 | E7: =-SUMIFS('明细'!$D$6:$D$72,'明细'!$M$6:$M$72,$B7,'明细'!$N$6:$N$72,'分类汇总'!$B$41) -> 4200 | F7: =-SUMIFS('明细'!$D$6:$D$72,'明细'!$M$6:$M$72,$B7,'明细'!$N$6:$N$72,'分类汇总'!$B$42) -> 0 | G7: =-SUMIFS('明细'!$D$6:$D$72,'明细'!$M$6:$M$72,$B7,'明细'!$N$6:$N$72,'分类汇总'!$B$43) -> 18600 | H7: =SUMIFS('明细'!$D$6:$D$72,'明细'!$M$6:$M$72,$B7,'明细'!$N$6:$N$72,'分类汇总'!$B$44) -> 0 | I7: =SUMIFS('明细'!$D$6:$D$72,'明细'!$M$6:$M$72,$B7,'明细'!$N$6:$N$72,'分类汇总'!$B$45) -> 0 | J7: =SUMIFS('明细'!$D$6:$D$72,'明细'!$M$6:$M$72,$B7,'明细'!$N$6:$N$72,'分类汇总'!$B$38,'明细'!$D$6:$D$72,">0")-SUMIFS('明细'!$D$6:$D$72,'明细'!$M$6:$M$72,$B7,'明细'!$N$6:$N$72,'分类汇总'!$B$38,'明细'!$D$6:$D$72,"<0") -> 4114.8 | K7: =SUMIFS('明细'!$D$6:$D$72,'明细'!$M$6:$M$72,$B7,'明细'!$N$6:$N$72,"<>"&'分类汇总'!$B$28) -> -18867.8
B8: =EDATE(B7,1) -> 46296 | C8: =SUMIFS('明细'!$D$6:$D$72,'明细'!$M$6:$M$72,$B8,'明细'!$N$6:$N$72,'分类汇总'!$B$39) -> 15212.5 | D8: =-SUMIFS('明细'!$D$6:$D$72,'明细'!$M$6:$M$72,$B8,'明细'!$N$6:$N$72,'分类汇总'!$B$40) -> 6629 | E8: =-SUMIFS('明细'!$D$6:$D$72,'明细'!$M$6:$M$72,$B8,'明细'!$N$6:$N$72,'分类汇总'!$B$41) -> 0 | F8: =-SUMIFS('明细'!$D$6:$D$72,'明细'!$M$6:$M$72,$B8,'明细'!$N$6:$N$72,'分类汇总'!$B$42) -> 0 | G8: =-SUMIFS('明细'!$D$6:$D$72,'明细'!$M$6:$M$72,$B8,'明细'!$N$6:$N$72,'分类汇总'!$B$43) -> 0 | H8: =SUMIFS('明细'!$D$6:$D$72,'明细'!$M$6:$M$72,$B8,'明细'!$N$6:$N$72,'分类汇总'!$B$44) -> -4000 | I8: =SUMIFS('明细'!$D$6:$D$72,'明细'!$M$6:$M$72,$B8,'明细'!$N$6:$N$72,'分类汇总'!$B$45) -> 0 | J8: =SUMIFS('明细'!$D$6:$D$72,'明细'!$M$6:$M$72,$B8,'明细'!$N$6:$N$72,'分类汇总'!$B$38,'明细'!$D$6:$D$72,">0")-SUMIFS('明细'!$D$6:$D$72,'明细'!$M$6:$M$72,$B8,'明细'!$N$6:$N$72,'分类汇总'!$B$38,'明细'!$D$6:$D$72,"<0") -> 5033.6 | K8: =SUMIFS('明细'!$D$6:$D$72,'明细'!$M$6:$M$72,$B8,'明细'!$N$6:$N$72,"<>"&'分类汇总'!$B$28) -> -450.1
B9: 合计 | C9: =SUM(C6:C8) -> 50812.5 | D9: =SUM(D6:D8) -> 27239 | E9: =SUM(E6:E8) -> 4200 | F9: =SUM(F6:F8) -> 686.4 | G9: =SUM(G6:G8) -> 18600 | H9: =SUM(H6:H8) -> -9000 | I9: =SUM(I6:I8) -> 0 | J9: =SUM(J6:J8) -> 20160.7 | K9: =SUM(K6:K8) -> -11497.6
B27: 每个分类每个月
B28: 分类 | C28: =$B$6 -> 46235 | D28: =$B$7 -> 46266 | E28: =$B$8 -> 46296
B29: =IF('分类汇总'!$C$6="","",'分类汇总'!$C$6) -> 待你决定 | C29: =IF($B29="","",SUMIFS('明细'!$D$6:$D$72,'明细'!$M$6:$M$72,C$28,'明细'!$N$6:$N$72,'分类汇总'!$B$6)) -> 6187.7 | D29: =IF($B29="","",SUMIFS('明细'!$D$6:$D$72,'明细'!$M$6:$M$72,D$28,'明细'!$N$6:$N$72,'分类汇总'!$B$6)) -> -3738.8 | E29: =IF($B29="","",SUMIFS('明细'!$D$6:$D$72,'明细'!$M$6:$M$72,E$28,'明细'!$N$6:$N$72,'分类汇总'!$B$6)) -> -5033.6
B30: =IF('分类汇总'!$C$7="","",'分类汇总'!$C$7) -> 销售和服务收入 | C30: =IF($B30="","",SUMIFS('明细'!$D$6:$D$72,'明细'!$M$6:$M$72,C$28,'明细'!$E$6:$E$72,$B30)) -> 18000 | D30: =IF($B30="","",SUMIFS('明细'!$D$6:$D$72,'明细'!$M$6:$M$72,D$28,'明细'!$E$6:$E$72,$B30)) -> 17600 | E30: =IF($B30="","",SUMIFS('明细'!$D$6:$D$72,'明细'!$M$6:$M$72,E$28,'明细'!$E$6:$E$72,$B30)) -> 15200
B31: =IF('分类汇总'!$C$8="","",'分类汇总'!$C$8) -> 利息收入 | C31: =IF($B31="","",SUMIFS('明细'!$D$6:$D$72,'明细'!$M$6:$M$72,C$28,'明细'!$E$6:$E$72,$B31)) -> 0 | D31: =IF($B31="","",SUMIFS('明细'!$D$6:$D$72,'明细'!$M$6:$M$72,D$28,'明细'!$E$6:$E$72,$B31)) -> 0 | E31: =IF($B31="","",SUMIFS('明细'!$D$6:$D$72,'明细'!$M$6:$M$72,E$28,'明细'!$E$6:$E$72,$B31)) -> 12.5
B32: =IF('分类汇总'!$C$9="","",'分类汇总'!$C$9) -> 其他收入 | C32: =IF($B32="","",SUMIFS('明细'!$D$6:$D$72,'明细'!$M$6:$M$72,C$28,'明细'!$E$6:$E$72,$B32)) -> 0 | D32: =IF($B32="","",SUMIFS('明细'!$D$6:$D$72,'明细'!$M$6:$M$72,D$28,'明细'!$E$6:$E$72,$B32)) -> 0 | E32: =IF($B32="","",SUMIFS('明细'!$D$6:$D$72,'明细'!$M$6:$M$72,E$28,'明细'!$E$6:$E$72,$B32)) -> 0
B33: =IF('分类汇总'!$C$10="","",'分类汇总'!$C$10) -> 进货和材料 | C33: =IF($B33="","",SUMIFS('明细'!$D$6:$D$72,'明细'!$M$6:$M$72,C$28,'明细'!$E$6:$E$72,$B33)) -> -2380 | D33: =IF($B33="","",SUMIFS('明细'!$D$6:$D$72,'明细'!$M$6:$M$72,D$28,'明细'!$E$6:$E$72,$B33)) -> -2660 | E33: =IF($B33="","",SUMIFS('明细'!$D$6:$D$72,'明细'!$M$6:$M$72,E$28,'明细'!$E$6:$E$72,$B33)) -> 0
B34: =IF('分类汇总'!$C$11="","",'分类汇总'!$C$11) -> 工资和外包 | C34: =IF($B34="","",SUMIFS('明细'!$D$6:$D$72,'明细'!$M$6:$M$72,C$28,'明细'!$E$6:$E$72,$B34)) -> 0 | D34: =IF($B34="","",SUMIFS('明细'!$D$6:$D$72,'明细'!$M$6:$M$72,D$28,'明细'!$E$6:$E$72,$B34)) -> 0 | E34: =IF($B34="","",SUMIFS('明细'!$D$6:$D$72,'明细'!$M$6:$M$72,E$28,'明细'!$E$6:$E$72,$B34)) -> 0
B35: =IF('分类汇总'!$C$12="","",'分类汇总'!$C$12) -> 房租 | C35: =IF($B35="","",SUMIFS('明细'!$D$6:$D$72,'明细'!$M$6:$M$72,C$28,'明细'!$E$6:$E$72,$B35)) -> -6500 | D35: =IF($B35="","",SUMIFS('明细'!$D$6:$D$72,'明细'!$M$6:$M$72,D$28,'明细'!$E$6:$E$72,$B35)) -> -6500 | E35: =IF($B35="","",SUMIFS('明细'!$D$6:$D$72,'明细'!$M$6:$M$72,E$28,'明细'!$E$6:$E$72,$B35)) -> -6500
B36: =IF('分类汇总'!$C$13="","",'分类汇总'!$C$13) -> 水电燃气 | C36: =IF($B36="","",SUMIFS('明细'!$D$6:$D$72,'明细'!$M$6:$M$72,C$28,'明细'!$E$6:$E$72,$B36)) -> 0 | D36: =IF($B36="","",SUMIFS('明细'!$D$6:$D$72,'明细'!$M$6:$M$72,D$28,'明细'!$E$6:$E$72,$B36)) -> 0 | E36: =IF($B36="","",SUMIFS('明细'!$D$6:$D$72,'明细'!$M$6:$M$72,E$28,'明细'!$E$6:$E$72,$B36)) -> 0
B37: =IF('分类汇总'!$C$14="","",'分类汇总'!$C$14) -> 通讯和网络 | C37: =IF($B37="","",SUMIFS('明细'!$D$6:$D$72,'明细'!$M$6:$M$72,C$28,'明细'!$E$6:$E$72,$B37)) -> -129 | D37: =IF($B37="","",SUMIFS('明细'!$D$6:$D$72,'明细'!$M$6:$M$72,D$28,'明细'!$E$6:$E$72,$B37)) -> -129 | E37: =IF($B37="","",SUMIFS('明细'!$D$6:$D$72,'明细'!$M$6:$M$72,E$28,'明细'!$E$6:$E$72,$B37)) -> -129
B38: =IF('分类汇总'!$C$15="","",'分类汇总'!$C$15) -> 软件和订阅 | C38: =IF($B38="","",SUMIFS('明细'!$D$6:$D$72,'明细'!$M$6:$M$72,C$28,'明细'!$E$6:$E$72,$B38)) -> -680 | D38: =IF($B38="","",SUMIFS('明细'!$D$6:$D$72,'明细'!$M$6:$M$72,D$28,'明细'!$E$6:$E$72,$B38)) -> 0 | E38: =IF($B38="","",SUMIFS('明细'!$D$6:$D$72,'明细'!$M$6:$M$72,E$28,'明细'!$E$6:$E$72,$B38)) -> 0
B39: =IF('分类汇总'!$C$16="","",'分类汇总'!$C$16) -> 广告推广 | C39: =IF($B39="","",SUMIFS('明细'!$D$6:$D$72,'明细'!$M$6:$M$72,C$28,'明细'!$E$6:$E$72,$B39)) -> 0 | D39: =IF($B39="","",SUMIFS('明细'!$D$6:$D$72,'明细'!$M$6:$M$72,D$28,'明细'!$E$6:$E$72,$B39)) -> 0 | E39: =IF($B39="","",SUMIFS('明细'!$D$6:$D$72,'明细'!$M$6:$M$72,E$28,'明细'!$E$6:$E$72,$B39)) -> 0
B40: =IF('分类汇总'!$C$17="","",'分类汇总'!$C$17) -> 交通差旅 | C40: =IF($B40="","",SUMIFS('明细'!$D$6:$D$72,'明细'!$M$6:$M$72,C$28,'明细'!$E$6:$E$72,$B40)) -> 0 | D40: =IF($B40="","",SUMIFS('明细'!$D$6:$D$72,'明细'!$M$6:$M$72,D$28,'明细'!$E$6:$E$72,$B40)) -> 0 | E40: =IF($B40="","",SUMIFS('明细'!$D$6:$D$72,'明细'!$M$6:$M$72,E$28,'明细'!$E$6:$E$72,$B40)) -> 0
B41: =IF('分类汇总'!$C$18="","",'分类汇总'!$C$18) -> 办公用品 | C41: =IF($B41="","",SUMIFS('明细'!$D$6:$D$72,'明细'!$M$6:$M$72,C$28,'明细'!$E$6:$E$72,$B41)) -> 0 | D41: =IF($B41="","",SUMIFS('明细'!$D$6:$D$72,'明细'!$M$6:$M$72,D$28,'明细'!$E$6:$E$72,$B41)) -> -28 | E41: =IF($B41="","",SUMIFS('明细'!$D$6:$D$72,'明细'!$M$6:$M$72,E$28,'明细'!$E$6:$E$72,$B41)) -> 0
B42: =IF('分类汇总'!$C$19="","",'分类汇总'!$C$19) -> 保险 | C42: =IF($B42="","",SUMIFS('明细'!$D$6:$D$72,'明细'!$M$6:$M$72,C$28,'明细'!$E$6:$E$72,$B42)) -> -980 | D42: =IF($B42="","",SUMIFS('明细'!$D$6:$D$72,'明细'!$M$6:$M$72,D$28,'明细'!$E$6:$E$72,$B42)) -> 0 | E42: =IF($B42="","",SUMIFS('明细'!$D$6:$D$72,'明细'!$M$6:$M$72,E$28,'明细'!$E$6:$E$72,$B42)) -> 0
B43: =IF('分类汇总'!$C$20="","",'分类汇总'!$C$20) -> 银行和平台手续费 | C43: =IF($B43="","",SUMIFS('明细'!$D$6:$D$72,'明细'!$M$6:$M$72,C$28,'明细'!$E$6:$E$72,$B43)) -> -12 | D43: =IF($B43="","",SUMIFS('明细'!$D$6:$D$72,'明细'!$M$6:$M$72,D$28,'明细'!$E$6:$E$72,$B43)) -> -12 | E43: =IF($B43="","",SUMIFS('明细'!$D$6:$D$72,'明细'!$M$6:$M$72,E$28,'明细'!$E$6:$E$72,$B43)) -> 0
B44: =IF('分类汇总'!$C$21="","",'分类汇总'!$C$21) -> 会计和法律 | C44: =IF($B44="","",SUMIFS('明细'!$D$6:$D$72,'明细'!$M$6:$M$72,C$28,'明细'!$E$6:$E$72,$B44)) -> 0 | D44: =IF($B44="","",SUMIFS('明细'!$D$6:$D$72,'明细'!$M$6:$M$72,D$28,'明细'!$E$6:$E$72,$B44)) -> -600 | E44: =IF($B44="","",SUMIFS('明细'!$D$6:$D$72,'明细'!$M$6:$M$72,E$28,'明细'!$E$6:$E$72,$B44)) -> 0
B45: =IF('分类汇总'!$C$22="","",'分类汇总'!$C$22) -> 其他支出 | C45: =IF($B45="","",SUMIFS('明细'!$D$6:$D$72,'明细'!$M$6:$M$72,C$28,'明细'!$E$6:$E$72,$B45)) -> 0 | D45: =IF($B45="","",SUMIFS('明细'!$D$6:$D$72,'明细'!$M$6:$M$72,D$28,'明细'!$E$6:$E$72,$B45)) -> 0 | E45: =IF($B45="","",SUMIFS('明细'!$D$6:$D$72,'明细'!$M$6:$M$72,E$28,'明细'!$E$6:$E$72,$B45)) -> 0
B46: =IF('分类汇总'!$C$23="","",'分类汇总'!$C$23) -> 税费和政府缴费 | C46: =IF($B46="","",SUMIFS('明细'!$D$6:$D$72,'明细'!$M$6:$M$72,C$28,'明细'!$E$6:$E$72,$B46)) -> 0 | D46: =IF($B46="","",SUMIFS('明细'!$D$6:$D$72,'明细'!$M$6:$M$72,D$28,'明细'!$E$6:$E$72,$B46)) -> -4200 | E46: =IF($B46="","",SUMIFS('明细'!$D$6:$D$72,'明细'!$M$6:$M$72,E$28,'明细'!$E$6:$E$72,$B46)) -> 0
B47: =IF('分类汇总'!$C$24="","",'分类汇总'!$C$24) -> 私人开支 | C47: =IF($B47="","",SUMIFS('明细'!$D$6:$D$72,'明细'!$M$6:$M$72,C$28,'明细'!$E$6:$E$72,$B47)) -> -686.4 | D47: =IF($B47="","",SUMIFS('明细'!$D$6:$D$72,'明细'!$M$6:$M$72,D$28,'明细'!$E$6:$E$72,$B47)) -> 0 | E47: =IF($B47="","",SUMIFS('明细'!$D$6:$D$72,'明细'!$M$6:$M$72,E$28,'明细'!$E$6:$E$72,$B47)) -> 0
B48: =IF('分类汇总'!$C$25="","",'分类汇总'!$C$25) -> 大额购置 | C48: =IF($B48="","",SUMIFS('明细'!$D$6:$D$72,'明细'!$M$6:$M$72,C$28,'明细'!$E$6:$E$72,$B48)) -> 0 | D48: =IF($B48="","",SUMIFS('明细'!$D$6:$D$72,'明细'!$M$6:$M$72,D$28,'明细'!$E$6:$E$72,$B48)) -> -18600 | E48: =IF($B48="","",SUMIFS('明细'!$D$6:$D$72,'明细'!$M$6:$M$72,E$28,'明细'!$E$6:$E$72,$B48)) -> 0
B49: =IF('分类汇总'!$C$26="","",'分类汇总'!$C$26) -> 自己账户之间转账 | C49: =IF($B49="","",SUMIFS('明细'!$D$6:$D$72,'明细'!$M$6:$M$72,C$28,'明细'!$E$6:$E$72,$B49)) -> -5000 | D49: =IF($B49="","",SUMIFS('明细'!$D$6:$D$72,'明细'!$M$6:$M$72,D$28,'明细'!$E$6:$E$72,$B49)) -> 0 | E49: =IF($B49="","",SUMIFS('明细'!$D$6:$D$72,'明细'!$M$6:$M$72,E$28,'明细'!$E$6:$E$72,$B49)) -> -4000
B50: =IF('分类汇总'!$C$27="","",'分类汇总'!$C$27) -> 借贷款项 | C50: =IF($B50="","",SUMIFS('明细'!$D$6:$D$72,'明细'!$M$6:$M$72,C$28,'明细'!$E$6:$E$72,$B50)) -> 0 | D50: =IF($B50="","",SUMIFS('明细'!$D$6:$D$72,'明细'!$M$6:$M$72,D$28,'明细'!$E$6:$E$72,$B50)) -> 0 | E50: =IF($B50="","",SUMIFS('明细'!$D$6:$D$72,'明细'!$M$6:$M$72,E$28,'明细'!$E$6:$E$72,$B50)) -> 0
B51: =IF('分类汇总'!$C$28="","",'分类汇总'!$C$28) -> 不计入（重复或没成交） | C51: =IF($B51="","",SUMIFS('明细'!$D$6:$D$72,'明细'!$M$6:$M$72,C$28,'明细'!$E$6:$E$72,$B51)) -> 0 | D51: =IF($B51="","",SUMIFS('明细'!$D$6:$D$72,'明细'!$M$6:$M$72,D$28,'明细'!$E$6:$E$72,$B51)) -> 0 | E51: =IF($B51="","",SUMIFS('明细'!$D$6:$D$72,'明细'!$M$6:$M$72,E$28,'明细'!$E$6:$E$72,$B51)) -> 0
B52: =IF('分类汇总'!$C$29="","",'分类汇总'!$C$29) | C52: =IF($B52="","",SUMIFS('明细'!$D$6:$D$72,'明细'!$M$6:$M$72,C$28,'明细'!$E$6:$E$72,$B52)) | D52: =IF($B52="","",SUMIFS('明细'!$D$6:$D$72,'明细'!$M$6:$M$72,D$28,'明细'!$E$6:$E$72,$B52)) | E52: =IF($B52="","",SUMIFS('明细'!$D$6:$D$72,'明细'!$M$6:$M$72,E$28,'明细'!$E$6:$E$72,$B52))
B53: =IF('分类汇总'!$C$30="","",'分类汇总'!$C$30) | C53: =IF($B53="","",SUMIFS('明细'!$D$6:$D$72,'明细'!$M$6:$M$72,C$28,'明细'!$E$6:$E$72,$B53)) | D53: =IF($B53="","",SUMIFS('明细'!$D$6:$D$72,'明细'!$M$6:$M$72,D$28,'明细'!$E$6:$E$72,$B53)) | E53: =IF($B53="","",SUMIFS('明细'!$D$6:$D$72,'明细'!$M$6:$M$72,E$28,'明细'!$E$6:$E$72,$B53))
B54: =IF('分类汇总'!$C$31="","",'分类汇总'!$C$31) | C54: =IF($B54="","",SUMIFS('明细'!$D$6:$D$72,'明细'!$M$6:$M$72,C$28,'明细'!$E$6:$E$72,$B54)) | D54: =IF($B54="","",SUMIFS('明细'!$D$6:$D$72,'明细'!$M$6:$M$72,D$28,'明细'!$E$6:$E$72,$B54)) | E54: =IF($B54="","",SUMIFS('明细'!$D$6:$D$72,'明细'!$M$6:$M$72,E$28,'明细'!$E$6:$E$72,$B54))

Sheet 核对
B2: 和流水核对 | H2: =COUNTIF('核对'!$F$6:$F$16,"对不上") -> 0
B3: 对不上的项目会一直标红，并在第一张表顶部警告。不会为了对上而调整任何数字。 对得上只说明数字加起来相符，不说明分类是对的。 | H3: =COUNTIF('核对'!$F$6:$F$16,"没法核对") -> 0
B4: 虚构示例。商家、银行、所有名字和金额都是编的。 | H4: =IF(IFERROR(MATCH(1,'明细'!$R$6:$R$72,0),0)=0,"",INDEX('明细'!$K$6:$K$72,IFERROR(MATCH(1,'明细'!$R$6:$R$72,0),0)))
